Workbook

Sheet Sheet1
A1: AWB | B1: Last State | C1: Date | D1: Time | E1: State | F1: Country | G1: Location | H1: Order No
A2: 980103619 | C2: 46193 | D2: 0.27430556 | E2: Waybill created. Shipment has not been received from the retailer | F2: SYSTEM | G2: . | H2: 9
A3: 980103619 | C3: 46197 | D3: 0.12222222 | E3: Picked up by Naqel | F3: DUBAI | G3: . | H3: 10
A4: 980103619 | C4: 46197 | D4: 0.12569444 | E4: Arrived at Naqel Facility | F4: DUBAI | G4: . | H4: 11
A5: 980103619 | C5: 46197 | D5: 0.12916667 | E5: Re-Weight | F5: DUBAI | G5: . | H5: 12
A6: 980103619 | C6: 46197 | D6: 0.29513889 | E6: Out For Delivery with Courier | F6: DUBAI | G6: . | H6: 13
A7: 980103619 | C7: 46197 | D7: 0.33125 | E7: Prepared for delivery | F7: DUBAI | G7: . | H7: 14
A8: 980103619 | C8: 46197 | D8: 0.71944444 | E8: Delivery attempted – City/Area/District is incorrect - Please contact Naqel . | F8: AJMAN | G8: . | H8: 15
A9: 980103619 | C9: 46198 | D9: 0.31041667 | E9: Out For Delivery with Courier | F9: DUBAI | G9: . | H9: 16
A10: 980103619 | C10: 46198 | D10: 0.44027778 | E10: Prepared for delivery | F10: DUBAI | G10: . | H10: 17
A11: 980103619 | B11: Failed attempt | C11: 46198 | D11: 0.82152778 | E11: Delivery attempted – Consignee requested future delivery to 2026-6-29 | F11: DUBAI | G11: . | H11: 18
A12: 980103618 | C12: 46196 | D12: 0.76666667 | E12: Shipment picked up | F12: MUSCAT - OMAN | G12: . | H12: 9
A13: 980103618 | C13: 46196 | D13: 0.87152778 | E13: Processed at MUSCAT - OMAN | F13: MUSCAT - OMAN | G13: . | H13: 10
A14: 980103618 | C14: 46196 | D14: 0.87777778 | E14: Shipment has departed from a DHL facility MUSCAT - OMAN | F14: MUSCAT - OMAN | G14: . | H14: 11
A15: 980103618 | C15: 46197 | D15: 0.15555556 | E15: Arrived at DHL Sort Facility DUBAI - UNITED ARAB EMIRATES | F15: DUBAI - UNITED ARAB EMIRATES | G15: . | H15: 12
A16: 980103618 | C16: 46197 | D16: 0.47777778 | E16: Processed at DUBAI - UNITED ARAB EMIRATES | F16: DUBAI - UNITED ARAB EMIRATES | G16: . | H16: 13
A17: 980103618 | C17: 46197 | D17: 0.49305556 | E17: Shipment has departed from a DHL facility DUBAI - UNITED ARAB EMIRATES | F17: DUBAI - UNITED ARAB EMIRATES | G17: . | H17: 14
A18: 980103618 | C18: 46197 | D18: 0.74305556 | E18: Customs clearance status updated. Note - The Customs clearance process may start while the shipment is in transit to the destination. | F18: CINCINNATI HUB - Ohio - USA | G18: . | H18: 15
A19: 980103618 | C19: 46197 | D19: 0.84583333 | E19: Shipment is in transit to destination | F19: LEIPZIG - GERMANY | G19: . | H19: 16
A20: 980103618 | C20: 46197 | D20: 0.84652778 | E20: Shipment has departed from a DHL facility LEIPZIG - GERMANY | F20: LEIPZIG - GERMANY | G20: . | H20: 17
A21: 980103618 | C21: 46198 | D21: 0.014583333 | E21: Arrived at DHL Sort Facility CINCINNATI HUB - USA | F21: CINCINNATI HUB - Ohio - USA | G21: . | H21: 18
A22: 980103618 | C22: 46198 | D22: 0.028472222 | E22: Clearance processing complete at CINCINNATI HUB - USA | F22: CINCINNATI HUB - Ohio - USA | G22: . | H22: 19
A23: 980103618 | C23: 46198 | D23: 0.16805556 | E23: Processed at CINCINNATI HUB - USA | F23: CINCINNATI HUB - Ohio - USA | G23: . | H23: 20
... A27: 980103618 | C27: 46198 | D27: 0.52291667 | E27: Shipment is out with courier for delivery | F27: HOUSTON - Texas - USA | G27: . | H27: 24
A28: 980103618 | B28: Delivered | C28: 46198 | D28: 0.54375 | E28: Delivered | F28: HOUSTON - USA | G28: . | H28: 25
A29: 980103617 | C29: 46196 | D29: 0.76736111 | E29: Shipment picked up | F29: MUSCAT - OMAN | G29: . | H29: 9
A30: 980103617 | C30: 46196 | D30: 0.87152778 | E30: Processed at MUSCAT - OMAN | F30: MUSCAT - OMAN | G30: . | H30: 10
A31: 980103617 | C31: 46196 | D31: 0.87777778 | E31: Shipment has departed from a DHL facility MUSCAT - OMAN | F31: MUSCAT - OMAN | G31: . | H31: 11
A32: 980103617 | C32: 46197 | D32: 0.055555556 | E32: Customs clearance status updated. Note - The Customs clearance process may start while the shipment is in transit to the destination. | F32: EAST CHINA AREA - CHINA, PEOPLES REPUBLIC | G32: . | H32: 12
A33: 980103617 | C33: 46197 | D33: 0.15555556 | E33: Arrived at DHL Sort Facility DUBAI - UNITED ARAB EMIRATES | F33: DUBAI - UNITED ARAB EMIRATES | G33: . | H33: 13
A34: 980103617 | C34: 46197 | D34: 0.66180556 | E34: Processed at DUBAI - UNITED ARAB EMIRATES | F34: DUBAI - UNITED ARAB EMIRATES | G34: . | H34: 14
A35: 980103617 | C35: 46197 | D35: 0.69791667 | E35: Shipment has departed from a DHL facility DUBAI - UNITED ARAB EMIRATES | F35: DUBAI - UNITED ARAB EMIRATES | G35: . | H35: 15
A36: 980103617 | C36: 46198 | D36: 0.2125 | E36: Arrived at DHL Sort Facility HONG KONG - HONG KONG SAR, CHINA | F36: HONG KONG - HONG KONG SAR, CHINA | G36: . | H36: 16
A37: 980103617 | C37: 46198 | D37: 0.48611111 | E37: Processed at HONG KONG - HONG KONG SAR, CHINA | F37: HONG KONG - HONG KONG SAR, CHINA | G37: . | H37: 17
A38: 980103617 | C38: 46199 | D38: 0.13680556 | E38: Processed at HONG KONG - HONG KONG SAR, CHINA | F38: HONG KONG - HONG KONG SAR, CHINA | G38: . | H38: 18
A39: 980103617 | C39: 46199 | D39: 0.18055556 | E39: Shipment has departed from a DHL facility HONG KONG - HONG KONG SAR, CHINA | F39: HONG KONG - HONG KONG SAR, CHINA | G39: . | H39: 19
A40: 980103617 | C40: 46199 | D40: 0.22152778 | E40: Customs clearance status updated. Note - The Customs clearance process may start while the shipment is in transit to the destination. | F40: EAST CHINA AREA - CHINA, PEOPLES REPUBLIC | G40: . | H40: 20
... A46: 980103617 | C46: 46199 | D46: 0.44444444 | E46: Shipment is out with courier for delivery | F46: SHANGHAI - SHANGHAI - CHINA, PEOPLES REPUBLIC | G46: . | H46: 26
A47: 980103617 | B47: Delivered | C47: 46199 | D47: 0.59722222 | E47: Delivered | F47: SHANGHAI - CHINA, PEOPLES REPUBLIC | G47: . | H47: 27
A48: 980103614 | C48: 46196 | D48: 0.76458333 | E48: Shipment picked up | F48: MUSCAT - OMAN | G48: . | H48: 9
A49: 980103614 | C49: 46196 | D49: 0.86111111 | E49: Processed at MUSCAT - OMAN | F49: MUSCAT - OMAN | G49: . | H49: 10
A50: 980103614 | C50: 46196 | D50: 0.8625 | E50: Shipment has departed from a DHL facility MUSCAT - OMAN | F50: MUSCAT - OMAN | G50: . | H50: 11
A51: 980103614 | C51: 46197 | D51: 0.41458333 | E51: Arrived at DHL Sort Facility DUBAI - UNITED ARAB EMIRATES | F51: DUBAI - UNITED ARAB EMIRATES | G51: . | H51: 12
A52: 980103614 | C52: 46197 | D52: 0.42708333 | E52: Payment is received and recorded for shipment related fees | F52: OTTAWA SERVICE AREA - ONTARIO - CANADA | G52: . | H52: 13
A53: 980103614 | C53: 46197 | D53: 0.90902778 | E53: Processed at DUBAI - UNITED ARAB EMIRATES | F53: DUBAI - UNITED ARAB EMIRATES | G53: . | H53: 14
A54: 980103614 | C54: 46198 | D54: 0.48055556 | E54: Processed at DUBAI - UNITED ARAB EMIRATES | F54: DUBAI - UNITED ARAB EMIRATES | G54: . | H54: 15
A55: 980103614 | C55: 46198 | D55: 0.48472222 | E55: Shipment has departed from a DHL facility DUBAI - UNITED ARAB EMIRATES | F55: DUBAI - UNITED ARAB EMIRATES | G55: . | H55: 16
A56: 980103614 | C56: 46198 | D56: 0.85486111 | E56: Shipment is in transit to destination | F56: LEIPZIG - GERMANY | G56: . | H56: 17
A57: 980103614 | C57: 46198 | D57: 0.85555556 | E57: Shipment has departed from a DHL facility LEIPZIG - GERMANY | F57: LEIPZIG - GERMANY | G57: . | H57: 18
A58: 980103614 | C58: 46198 | D58: 0.98888889 | E58: Arrived at DHL Sort Facility CINCINNATI HUB - USA | F58: CINCINNATI HUB - Ohio - USA | G58: . | H58: 19
A59: 980103614 | C59: 46199 | D59: 0.24305556 | E59: Processed at CINCINNATI HUB - USA | F59: CINCINNATI HUB - Ohio - USA | G59: . | H59: 20
... A65: 980103614 | C65: 46199 | D65: 0.39930556 | E65: Shipment has departed from a DHL facility EASTERN QUEBEC AREA - CANADA | F65: EASTERN QUEBEC AREA - CANADA | G65: . | H65: 26
A66: 980103614 | B66: In transit | C66: 46199 | D66: 0.47777778 | E66: Arrived at DHL Delivery Facility OTTAWA - CANADA | F66: OTTAWA - ONTARIO - CANADA | G66: . | H66: 27
A67: 980103612 | C67: 46193 | D67: 0.95 | E67: Waybill created. Shipment has not been received from the retailer | F67: SYSTEM | G67: . | H67: 9
A68: 980103612 | C68: 46197 | D68: 0.05 | E68: Picked up by Naqel | F68: DUBAI | G68: . | H68: 10
A69: 980103612 | C69: 46197 | D69: 0.053472222 | E69: Arrived at Naqel Facility | F69: DUBAI | G69: . | H69: 11
A70: 980103612 | C70: 46197 | D70: 0.056944444 | E70: Re-Weight | F70: DUBAI | G70: . | H70: 12
A71: 980103612 | C71: 46197 | D71: 0.22222222 | E71: Out For Delivery with Courier | F71: DUBAI | G71: . | H71: 13
A72: 980103612 | C72: 46197 | D72: 0.24513889 | E72: Prepared for delivery | F72: DUBAI | G72: . | H72: 14
A73: 980103612 | B73: Delivered | C73: 46197 | D73: 0.90625 | E73: Delivered | F73: DUBAI | G73: . | H73: 15
A74: 980103609 | C74: 46189 | D74: 0.475 | E74: Customs clearance status updated. Note - The Customs clearance process may start while the shipment is in transit to the destination. | F74: CINCINNATI HUB - Ohio - USA | G74: . | H74: 9
A75: 980103609 | C75: 46189 | D75: 0.76666667 | E75: Shipment picked up | F75: MUSCAT - OMAN | G75: . | H75: 10
A76: 980103609 | C76: 46189 | D76: 0.87777778 | E76: Processed at MUSCAT - OMAN | F76: MUSCAT - OMAN | G76: . | H76: 11
A77: 980103609 | C77: 46189 | D77: 0.87847222 | E77: Shipment has departed from a DHL facility MUSCAT - OMAN | F77: MUSCAT - OMAN | G77: . | H77: 12
A78: 980103609 | C78: 46190 | D78: 0.17569444 | E78: Arrived at DHL Sort Facility DUBAI - UNITED ARAB EMIRATES | F78: DUBAI - UNITED ARAB EMIRATES | G78: . | H78: 13
A79: 980103609 | C79: 46190 | D79: 0.47430556 | E79: Processed at DUBAI - UNITED ARAB EMIRATES | F79: DUBAI - UNITED ARAB EMIRATES | G79: . | H79: 14
A80: 980103609 | C80: 46190 | D80: 0.48680556 | E80: Shipment has departed from a DHL facility DUBAI - UNITED ARAB EMIRATES | F80: DUBAI - UNITED ARAB EMIRATES | G80: . | H80: 15
A81: 980103609 | C81: 46190 | D81: 0.63472222 | E81: Customs clearance status updated. Note - The Customs clearance process may start while the shipment is in transit to the destination. | F81: CINCINNATI HUB - Ohio - USA | G81: . | H81: 16
A82: 980103609 | C82: 46190 | D82: 0.69583333 | E82: Customs clearance status updated. Note - The Customs clearance process may start while the shipment is in transit to the destination. | F82: CINCINNATI HUB - Ohio - USA | G82: . | H82: 17
A83: 980103609 | C83: 46190 | D83: 0.84583333 | E83: Customs clearance status updated. Note - The Customs clearance process may start while the shipment is in transit to the destination. | F83: CINCINNATI HUB - Ohio - USA | G83: . | H83: 18
A84: 980103609 | C84: 46190 | D84: 0.85972222 | E84: Shipment is in transit to destination | F84: LEIPZIG - GERMANY | G84: . | H84: 19
A85: 980103609 | C85: 46190 | D85: 0.86111111 | E85: Shipment has departed from a DHL facility LEIPZIG - GERMANY | F85: LEIPZIG - GERMANY | G85: . | H85: 20
... A98: 980103609 | C98: 46196 | D98: 0.52916667 | E98: Payment is received and recorded for shipment related fees | F98: SAN JOSE - California - USA | G98: . | H98: 33
A99: 980103609 | B99: Delivered | C99: 46196 | D99: 0.52916667 | E99: Delivered | F99: MENLO PARK - USA | G99: . | H99: 34

Sheet Refrence
A1: Tracking Number | B1: Reference Number | C1: Delivery | D1: Booking Number | E1: IM/EX | F1: To Country | G1: Item Description | H1: Delivery Agent
A2: 2329941040 | B2: 980103609 | D2: 1012 | E2: DHL
A3: 408638268 | B3: 980103612 | E3: Naghel
A4: 8252492625 | B4: 980103613 | E4: DHL
A5: 7095511345 | B5: 980103614 | E5: DHL
A6: 8252494261 | B6: 980103615 | E6: DHL
A7: 8252495241 | B7: 980103616 | E7: DHL
A8: 7095512314 | B8: 980103617 | E8: DHL
A9: 2407746714 | B9: 980103618 | E9: DHL
A10: 408638240 | B10: 980103619 | E10: Naghel
A11: 8252500395 | B11: 980103620 | E11: DHL
B14: 980103108 | F14: United Arab Emirates
A15: 1Z483Y5W0491404336 | B15: 980103079 | C15: 991035590 | F15: China | G15: UPS | H15: 100.00AED disposal charge

Sheet Paste
A1: Tracking number | B1: Tracking number | C1: N | D1: Tracking number | E1: Origin Country | F1: Destination Country | G1: Date | H1: Local Time | I1: Location | J1: Event label | K1: Delivery status
A2: =D2 -> 0 | B2: 408638240 | C2: 98 | G2: 46193 | H2: 0.27430556 | I2: SYSTEM | J2: Waybill created. Shipment has not been received from the retailer
A3: =IF(D3="",A2,D3) -> 0 | B3: 408638240 | C3: 97 | G3: 46197 | H3: 0.12222222 | I3: DUBAI | J3: Picked up by Naqel
A4: =IF(D4="",A3,D4) -> 0 | B4: 408638240 | C4: 96 | G4: 46197 | H4: 0.12569444 | I4: DUBAI | J4: Arrived at Naqel Facility
A5: =IF(D5="",A4,D5) -> 0 | B5: 408638240 | C5: 95 | G5: 46197 | H5: 0.12916667 | I5: DUBAI | J5: Re-Weight
A6: =IF(D6="",A5,D6) -> 0 | B6: 408638240 | C6: 94 | G6: 46197 | H6: 0.29513889 | I6: DUBAI | J6: Out For Delivery with Courier
A7: =IF(D7="",A6,D7) -> 0 | B7: 408638240 | C7: 93 | G7: 46197 | H7: 0.33125 | I7: DUBAI | J7: Prepared for delivery
A8: =IF(D8="",A7,D8) -> 0 | B8: 408638240 | C8: 92 | G8: 46197 | H8: 0.71944444 | I8: AJMAN | J8: Delivery attempted – City/Area/District is incorrect - Please contact Naqel .
A9: =IF(D9="",A8,D9) -> 0 | B9: 408638240 | C9: 91 | G9: 46198 | H9: 0.31041667 | I9: DUBAI | J9: Out For Delivery with Courier
A10: =IF(D10="",A9,D10) -> 0 | B10: 408638240 | C10: 90 | G10: 46198 | H10: 0.44027778 | I10: DUBAI | J10: Prepared for delivery
A11: =IF(D11="",A10,D11) -> 408638240 | B11: 408638240 | C11: 89 | D11: 408638240 | E11: Unknown | G11: 46198 | H11: 0.82152778 | I11: DUBAI | J11: Delivery attempted – Consignee requested future delivery to 2026-6-29 | K11: Failed attempt
A12: =IF(D12="",A11,D12) -> 408638240 | B12: 2407746714 | C12: 88 | G12: 46196 | H12: 0.76666667 | I12: MUSCAT - OMAN | J12: Shipment picked up
A13: =IF(D13="",A12,D13) -> 408638240 | B13: 2407746714 | C13: 87 | G13: 46196 | H13: 0.87152778 | I13: MUSCAT - OMAN | J13: Processed at MUSCAT - OMAN
A14: =IF(D14="",A13,D14) -> 408638240 | B14: 2407746714 | C14: 86 | G14: 46196 | H14: 0.87777778 | I14: MUSCAT - OMAN | J14: Shipment has departed from a DHL facility MUSCAT - OMAN
A15: =IF(D15="",A14,D15) -> 408638240 | B15: 2407746714 | C15: 85 | G15: 46197 | H15: 0.15555556 | I15: DUBAI - UNITED ARAB EMIRATES | J15: Arrived at DHL Sort Facility DUBAI - UNITED ARAB EMIRATES
A16: =IF(D16="",A15,D16) -> 408638240 | B16: 2407746714 | C16: 84 | G16: 46197 | H16: 0.47777778 | I16: DUBAI - UNITED ARAB EMIRATES | J16: Processed at DUBAI - UNITED ARAB EMIRATES
A17: =IF(D17="",A16,D17) -> 408638240 | B17: 2407746714 | C17: 83 | G17: 46197 | H17: 0.49305556 | I17: DUBAI - UNITED ARAB EMIRATES | J17: Shipment has departed from a DHL facility DUBAI - UNITED ARAB EMIRATES
A18: =IF(D18="",A17,D18) -> 408638240 | B18: 2407746714 | C18: 82 | G18: 46197 | H18: 0.74305556 | I18: CINCINNATI HUB - Ohio - USA | J18: Customs clearance status updated. Note - The Customs clearance process may start while the shipment is in transit to the destination.
A19: =IF(D19="",A18,D19) -> 408638240 | B19: 2407746714 | C19: 81 | G19: 46197 | H19: 0.84583333 | I19: LEIPZIG - GERMANY | J19: Shipment is in transit to destination
A20: =IF(D20="",A19,D20) -> 408638240 | B20: 2407746714 | C20: 80 | G20: 46197 | H20: 0.84652778 | I20: LEIPZIG - GERMANY | J20: Shipment has departed from a DHL facility LEIPZIG - GERMANY
A21: =IF(D21="",A20,D21) -> 408638240 | B21: 2407746714 | C21: 79 | G21: 46198 | H21: 0.014583333 | I21: CINCINNATI HUB - Ohio - USA | J21: Arrived at DHL Sort Facility CINCINNATI HUB - USA
A22: =IF(D22="",A21,D22) -> 408638240 | B22: 2407746714 | C22: 78 | G22: 46198 | H22: 0.028472222 | I22: CINCINNATI HUB - Ohio - USA | J22: Clearance processing complete at CINCINNATI HUB - USA
A23: =IF(D23="",A22,D23) -> 408638240 | B23: 2407746714 | C23: 77 | G23: 46198 | H23: 0.16805556 | I23: CINCINNATI HUB - Ohio - USA | J23: Processed at CINCINNATI HUB - USA
... A27: =IF(D27="",A26,D27) -> 408638240 | B27: 2407746714 | C27: 73 | G27: 46198 | H27: 0.52291667 | I27: HOUSTON - Texas - USA | J27: Shipment is out with courier for delivery
A28: =IF(D28="",A27,D28) -> 2407746714 | B28: 2407746714 | C28: 72 | D28: 2407746714 | E28: Unknown | G28: 46198 | H28: 0.54375 | I28: HOUSTON - USA | J28: Delivered | K28: Delivered
A29: =IF(D29="",A28,D29) -> 2407746714 | B29: 7095512314 | C29: 71 | G29: 46196 | H29: 0.76736111 | I29: MUSCAT - OMAN | J29: Shipment picked up
A30: =IF(D30="",A29,D30) -> 2407746714 | B30: 7095512314 | C30: 70 | G30: 46196 | H30: 0.87152778 | I30: MUSCAT - OMAN | J30: Processed at MUSCAT - OMAN
A31: =IF(D31="",A30,D31) -> 2407746714 | B31: 7095512314 | C31: 69 | G31: 46196 | H31: 0.87777778 | I31: MUSCAT - OMAN | J31: Shipment has departed from a DHL facility MUSCAT - OMAN
A32: =IF(D32="",A31,D32) -> 2407746714 | B32: 7095512314 | C32: 68 | G32: 46197 | H32: 0.055555556 | I32: EAST CHINA AREA - CHINA, PEOPLES REPUBLIC | J32: Customs clearance status updated. Note - The Customs clearance process may start while the shipment is in transit to the destination.
A33: =IF(D33="",A32,D33) -> 2407746714 | B33: 7095512314 | C33: 67 | G33: 46197 | H33: 0.15555556 | I33: DUBAI - UNITED ARAB EMIRATES | J33: Arrived at DHL Sort Facility DUBAI - UNITED ARAB EMIRATES
A34: =IF(D34="",A33,D34) -> 2407746714 | B34: 7095512314 | C34: 66 | G34: 46197 | H34: 0.66180556 | I34: DUBAI - UNITED ARAB EMIRATES | J34: Processed at DUBAI - UNITED ARAB EMIRATES
A35: =IF(D35="",A34,D35) -> 2407746714 | B35: 7095512314 | C35: 65 | G35: 46197 | H35: 0.69791667 | I35: DUBAI - UNITED ARAB EMIRATES | J35: Shipment has departed from a DHL facility DUBAI - UNITED ARAB EMIRATES
A36: =IF(D36="",A35,D36) -> 2407746714 | B36: 7095512314 | C36: 64 | G36: 46198 | H36: 0.2125 | I36: HONG KONG - HONG KONG SAR, CHINA | J36: Arrived at DHL Sort Facility HONG KONG - HONG KONG SAR, CHINA
A37: =IF(D37="",A36,D37) -> 2407746714 | B37: 7095512314 | C37: 63 | G37: 46198 | H37: 0.48611111 | I37: HONG KONG - HONG KONG SAR, CHINA | J37: Processed at HONG KONG - HONG KONG SAR, CHINA
A38: =IF(D38="",A37,D38) -> 2407746714 | B38: 7095512314 | C38: 62 | G38: 46199 | H38: 0.13680556 | I38: HONG KONG - HONG KONG SAR, CHINA | J38: Processed at HONG KONG - HONG KONG SAR, CHINA
A39: =IF(D39="",A38,D39) -> 2407746714 | B39: 7095512314 | C39: 61 | G39: 46199 | H39: 0.18055556 | I39: HONG KONG - HONG KONG SAR, CHINA | J39: Shipment has departed from a DHL facility HONG KONG - HONG KONG SAR, CHINA
A40: =IF(D40="",A39,D40) -> 2407746714 | B40: 7095512314 | C40: 60 | G40: 46199 | H40: 0.22152778 | I40: EAST CHINA AREA - CHINA, PEOPLES REPUBLIC | J40: Customs clearance status updated. Note - The Customs clearance process may start while the shipment is in transit to the destination.
... A46: =IF(D46="",A45,D46) -> 2407746714 | B46: 7095512314 | C46: 54 | G46: 46199 | H46: 0.44444444 | I46: SHANGHAI - SHANGHAI - CHINA, PEOPLES REPUBLIC | J46: Shipment is out with courier for delivery
A47: =IF(D47="",A46,D47) -> 7095512314 | B47: 7095512314 | C47: 53 | D47: 7095512314 | E47: Unknown | G47: 46199 | H47: 0.59722222 | I47: SHANGHAI - CHINA, PEOPLES REPUBLIC | J47: Delivered | K47: Delivered
A48: =IF(D48="",A47,D48) -> 7095512314 | B48: 7095511345 | C48: 52 | G48: 46196 | H48: 0.76458333 | I48: MUSCAT - OMAN | J48: Shipment picked up
A49: =IF(D49="",A48,D49) -> 7095512314 | B49: 7095511345 | C49: 51 | G49: 46196 | H49: 0.86111111 | I49: MUSCAT - OMAN | J49: Processed at MUSCAT - OMAN
A50: =IF(D50="",A49,D50) -> 7095512314 | B50: 7095511345 | C50: 50 | G50: 46196 | H50: 0.8625 | I50: MUSCAT - OMAN | J50: Shipment has departed from a DHL facility MUSCAT - OMAN
A51: =IF(D51="",A50,D51) -> 7095512314 | B51: 7095511345 | C51: 49 | G51: 46197 | H51: 0.41458333 | I51: DUBAI - UNITED ARAB EMIRATES | J51: Arrived at DHL Sort Facility DUBAI - UNITED ARAB EMIRATES
A52: =IF(D52="",A51,D52) -> 7095512314 | B52: 7095511345 | C52: 48 | G52: 46197 | H52: 0.42708333 | I52: OTTAWA SERVICE AREA - ONTARIO - CANADA | J52: Payment is received and recorded for shipment related fees
A53: =IF(D53="",A52,D53) -> 7095512314 | B53: 7095511345 | C53: 47 | G53: 46197 | H53: 0.90902778 | I53: DUBAI - UNITED ARAB EMIRATES | J53: Processed at DUBAI - UNITED ARAB EMIRATES
A54: =IF(D54="",A53,D54) -> 7095512314 | B54: 7095511345 | C54: 46 | G54: 46198 | H54: 0.48055556 | I54: DUBAI - UNITED ARAB EMIRATES | J54: Processed at DUBAI - UNITED ARAB EMIRATES
A55: =IF(D55="",A54,D55) -> 7095512314 | B55: 7095511345 | C55: 45 | G55: 46198 | H55: 0.48472222 | I55: DUBAI - UNITED ARAB EMIRATES | J55: Shipment has departed from a DHL facility DUBAI - UNITED ARAB EMIRATES
A56: =IF(D56="",A55,D56) -> 7095512314 | B56: 7095511345 | C56: 44 | G56: 46198 | H56: 0.85486111 | I56: LEIPZIG - GERMANY | J56: Shipment is in transit to destination
A57: =IF(D57="",A56,D57) -> 7095512314 | B57: 7095511345 | C57: 43 | G57: 46198 | H57: 0.85555556 | I57: LEIPZIG - GERMANY | J57: Shipment has departed from a DHL facility LEIPZIG - GERMANY
A58: =IF(D58="",A57,D58) -> 7095512314 | B58: 7095511345 | C58: 42 | G58: 46198 | H58: 0.98888889 | I58: CINCINNATI HUB - Ohio - USA | J58: Arrived at DHL Sort Facility CINCINNATI HUB - USA
A59: =IF(D59="",A58,D59) -> 7095512314 | B59: 7095511345 | C59: 41 | G59: 46199 | H59: 0.24305556 | I59: CINCINNATI HUB - Ohio - USA | J59: Processed at CINCINNATI HUB - USA
... A65: =IF(D65="",A64,D65) -> 7095512314 | B65: 7095511345 | C65: 35 | G65: 46199 | H65: 0.39930556 | I65: EASTERN QUEBEC AREA - CANADA | J65: Shipment has departed from a DHL facility EASTERN QUEBEC AREA - CANADA
A66: =IF(D66="",A65,D66) -> 7095511345 | B66: 7095511345 | C66: 34 | D66: 7095511345 | E66: Unknown | G66: 46199 | H66: 0.47777778 | I66: OTTAWA - ONTARIO - CANADA | J66: Arrived at DHL Delivery Facility OTTAWA - CANADA | K66: In transit
A67: =IF(D67="",A66,D67) -> 7095511345 | B67: 408638268 | C67: 33 | G67: 46193 | H67: 0.95 | I67: SYSTEM | J67: Waybill created. Shipment has not been received from the retailer
A68: =IF(D68="",A67,D68) -> 7095511345 | B68: 408638268 | C68: 32 | G68: 46197 | H68: 0.05 | I68: DUBAI | J68: Picked up by Naqel
A69: =IF(D69="",A68,D69) -> 7095511345 | B69: 408638268 | C69: 31 | G69: 46197 | H69: 0.053472222 | I69: DUBAI | J69: Arrived at Naqel Facility
A70: =IF(D70="",A69,D70) -> 7095511345 | B70: 408638268 | C70: 30 | G70: 46197 | H70: 0.056944444 | I70: DUBAI | J70: Re-Weight
A71: =IF(D71="",A70,D71) -> 7095511345 | B71: 408638268 | C71: 29 | G71: 46197 | H71: 0.22222222 | I71: DUBAI | J71: Out For Delivery with Courier
A72: =IF(D72="",A71,D72) -> 7095511345 | B72: 408638268 | C72: 28 | G72: 46197 | H72: 0.24513889 | I72: DUBAI | J72: Prepared for delivery
A73: =IF(D73="",A72,D73) -> 408638268 | B73: 408638268 | C73: 27 | D73: 408638268 | E73: Unknown | G73: 46197 | H73: 0.90625 | I73: DUBAI | J73: Delivered | K73: Delivered
A74: =IF(D74="",A73,D74) -> 408638268 | B74: 2329941040 | C74: 26 | G74: 46189 | H74: 0.475 | I74: CINCINNATI HUB - Ohio - USA | J74: Customs clearance status updated. Note - The Customs clearance process may start while the shipment is in transit to the destination.
A75: =IF(D75="",A74,D75) -> 408638268 | B75: 2329941040 | C75: 25 | G75: 46189 | H75: 0.76666667 | I75: MUSCAT - OMAN | J75: Shipment picked up
A76: =IF(D76="",A75,D76) -> 408638268 | B76: 2329941040 | C76: 24 | G76: 46189 | H76: 0.87777778 | I76: MUSCAT - OMAN | J76: Processed at MUSCAT - OMAN
A77: =IF(D77="",A76,D77) -> 408638268 | B77: 2329941040 | C77: 23 | G77: 46189 | H77: 0.87847222 | I77: MUSCAT - OMAN | J77: Shipment has departed from a DHL facility MUSCAT - OMAN
A78: =IF(D78="",A77,D78) -> 408638268 | B78: 2329941040 | C78: 22 | G78: 46190 | H78: 0.17569444 | I78: DUBAI - UNITED ARAB EMIRATES | J78: Arrived at DHL Sort Facility DUBAI - UNITED ARAB EMIRATES
A79: =IF(D79="",A78,D79) -> 408638268 | B79: 2329941040 | C79: 21 | G79: 46190 | H79: 0.47430556 | I79: DUBAI - UNITED ARAB EMIRATES | J79: Processed at DUBAI - UNITED ARAB EMIRATES
A80: =IF(D80="",A79,D80) -> 408638268 | B80: 2329941040 | C80: 20 | G80: 46190 | H80: 0.48680556 | I80: DUBAI - UNITED ARAB EMIRATES | J80: Shipment has departed from a DHL facility DUBAI - UNITED ARAB EMIRATES
A81: =IF(D81="",A80,D81) -> 408638268 | B81: 2329941040 | C81: 19 | G81: 46190 | H81: 0.63472222 | I81: CINCINNATI HUB - Ohio - USA | J81: Customs clearance status updated. Note - The Customs clearance process may start while the shipment is in transit to the destination.
A82: =IF(D82="",A81,D82) -> 408638268 | B82: 2329941040 | C82: 18 | G82: 46190 | H82: 0.69583333 | I82: CINCINNATI HUB - Ohio - USA | J82: Customs clearance status updated. Note - The Customs clearance process may start while the shipment is in transit to the destination.
A83: =IF(D83="",A82,D83) -> 408638268 | B83: 2329941040 | C83: 17 | G83: 46190 | H83: 0.84583333 | I83: CINCINNATI HUB - Ohio - USA | J83: Customs clearance status updated. Note - The Customs clearance process may start while the shipment is in transit to the destination.
A84: =IF(D84="",A83,D84) -> 408638268 | B84: 2329941040 | C84: 16 | G84: 46190 | H84: 0.85972222 | I84: LEIPZIG - GERMANY | J84: Shipment is in transit to destination
A85: =IF(D85="",A84,D85) -> 408638268 | B85: 2329941040 | C85: 15 | G85: 46190 | H85: 0.86111111 | I85: LEIPZIG - GERMANY | J85: Shipment has departed from a DHL facility LEIPZIG - GERMANY
... A98: =IF(D98="",A97,D98) -> 408638268 | B98: 2329941040 | C98: 2 | G98: 46196 | H98: 0.52916667 | I98: SAN JOSE - California - USA | J98: Payment is received and recorded for shipment related fees
A99: =IF(D99="",A98,D99) -> 2329941040 | B99: 2329941040 | C99: 1 | D99: 2329941040 | E99: Unknown | G99: 46196 | H99: 0.52916667 | I99: MENLO PARK - USA | J99: Delivered | K99: Delivered
A100: =IF(D100="",A99,D100) -> 2329941040 | B100: 408638240
A101: =IF(D101="",A100,D101) -> 2329941040 | B101: 408638240
A102: =IF(D102="",A101,D102) -> 2329941040 | B102: 408638240
A103: =IF(D103="",A102,D103) -> 2329941040 | B103: 408638240
A104: =IF(D104="",A103,D104) -> 2329941040 | B104: 408638240
A105: =IF(D105="",A104,D105) -> 2329941040 | B105: 408638240
A106: =IF(D106="",A105,D106) -> 2329941040 | B106: 408638240
A107: =IF(D107="",A106,D107) -> 2329941040 | B107: 408638240
A108: =IF(D108="",A107,D108) -> 2329941040 | B108: 408638240
A109: =IF(D109="",A108,D109) -> 2329941040 | B109: 408638240
A110: =IF(D110="",A109,D110) -> 2329941040 | B110: 408638240
A111: =IF(D111="",A110,D111) -> 2329941040 | B111: 408638240
... A404: =IF(D404="",A403,D404) -> 2329941040 | B404: 408638240

Sheet copy
A1: =IF(Paste!B1="","",Paste!B1) -> Tracking number | B1: AWB | C1: =IF(Paste!K1="","",Paste!K1) -> Delivery status | D1: =IF(Paste!G1="","",Paste!G1) -> Date | E1: =IF(Paste!H1="","",Paste!H1) -> Local Time | F1: =IF(Paste!J1="","",Paste!J1) -> Event label | G1: =IF(Paste!I1="","",Paste!I1) -> Location | I1: Order No
A2: =IF(Paste!B2="","",Paste!B2) -> 408638240 | B2: =VLOOKUP(A:A,Refrence!A:B,2,FALSE) -> 980103619 | C2: =IF(Paste!K2="","",Paste!K2) | D2: =IF(Paste!G2="","",Paste!G2) -> 46193 | E2: =IF(Paste!H2="","",Paste!H2) -> 0.27430556 | F2: =IF(Paste!J2="","",Paste!J2) -> Waybill created. Shipment has not been received from the retailer | G2: =IF(Paste!I2="","",Paste!I2) -> SYSTEM | H2: . | I2: 9
A3: =IF(Paste!B3="","",Paste!B3) -> 408638240 | B3: =VLOOKUP(A:A,Refrence!A:B,2,FALSE) -> 980103619 | C3: =IF(Paste!K3="","",Paste!K3) | D3: =IF(Paste!G3="","",Paste!G3) -> 46197 | E3: =IF(Paste!H3="","",Paste!H3) -> 0.12222222 | F3: =IF(Paste!J3="","",Paste!J3) -> Picked up by Naqel | G3: =IF(Paste!I3="","",Paste!I3) -> DUBAI | H3: . | I3: =IF(B2=B3,I2+1,9) -> 10
A4: =IF(Paste!B4="","",Paste!B4) -> 408638240 | B4: =VLOOKUP(A:A,Refrence!A:B,2,FALSE) -> 980103619 | C4: =IF(Paste!K4="","",Paste!K4) | D4: =IF(Paste!G4="","",Paste!G4) -> 46197 | E4: =IF(Paste!H4="","",Paste!H4) -> 0.12569444 | F4: =IF(Paste!J4="","",Paste!J4) -> Arrived at Naqel Facility | G4: =IF(Paste!I4="","",Paste!I4) -> DUBAI | H4: . | I4: =IF(B3=B4,I3+1,9) -> 11
A5: =IF(Paste!B5="","",Paste!B5) -> 408638240 | B5: =VLOOKUP(A:A,Refrence!A:B,2,FALSE) -> 980103619 | C5: =IF(Paste!K5="","",Paste!K5) | D5: =IF(Paste!G5="","",Paste!G5) -> 46197 | E5: =IF(Paste!H5="","",Paste!H5) -> 0.12916667 | F5: =IF(Paste!J5="","",Paste!J5) -> Re-Weight | G5: =IF(Paste!I5="","",Paste!I5) -> DUBAI | H5: . | I5: =IF(B4=B5,I4+1,9) -> 12
A6: =IF(Paste!B6="","",Paste!B6) -> 408638240 | B6: =VLOOKUP(A:A,Refrence!A:B,2,FALSE) -> 980103619 | C6: =IF(Paste!K6="","",Paste!K6) | D6: =IF(Paste!G6="","",Paste!G6) -> 46197 | E6: =IF(Paste!H6="","",Paste!H6) -> 0.29513889 | F6: =IF(Paste!J6="","",Paste!J6) -> Out For Delivery with Courier | G6: =IF(Paste!I6="","",Paste!I6) -> DUBAI | H6: . | I6: =IF(B5=B6,I5+1,9) -> 13
A7: =IF(Paste!B7="","",Paste!B7) -> 408638240 | B7: =VLOOKUP(A:A,Refrence!A:B,2,FALSE) -> 980103619 | C7: =IF(Paste!K7="","",Paste!K7) | D7: =IF(Paste!G7="","",Paste!G7) -> 46197 | E7: =IF(Paste!H7="","",Paste!H7) -> 0.33125 | F7: =IF(Paste!J7="","",Paste!J7) -> Prepared for delivery | G7: =IF(Paste!I7="","",Paste!I7) -> DUBAI | H7: . | I7: =IF(B6=B7,I6+1,9) -> 14
A8: =IF(Paste!B8="","",Paste!B8) -> 408638240 | B8: =VLOOKUP(A:A,Refrence!A:B,2,FALSE) -> 980103619 | C8: =IF(Paste!K8="","",Paste!K8) | D8: =IF(Paste!G8="","",Paste!G8) -> 46197 | E8: =IF(Paste!H8="","",Paste!H8) -> 0.71944444 | F8: =IF(Paste!J8="","",Paste!J8) -> Delivery attempted – City/Area/District is incorrect - Please contact Naqel . | G8: =IF(Paste!I8="","",Paste!I8) -> AJMAN | H8: . | I8: =IF(B7=B8,I7+1,9) -> 15
A9: =IF(Paste!B9="","",Paste!B9) -> 408638240 | B9: =VLOOKUP(A:A,Refrence!A:B,2,FALSE) -> 980103619 | C9: =IF(Paste!K9="","",Paste!K9) | D9: =IF(Paste!G9="","",Paste!G9) -> 46198 | E9: =IF(Paste!H9="","",Paste!H9) -> 0.31041667 | F9: =IF(Paste!J9="","",Paste!J9) -> Out For Delivery with Courier | G9: =IF(Paste!I9="","",Paste!I9) -> DUBAI | H9: . | I9: =IF(B8=B9,I8+1,9) -> 16
A10: =IF(Paste!B10="","",Paste!B10) -> 408638240 | B10: =VLOOKUP(A:A,Refrence!A:B,2,FALSE) -> 980103619 | C10: =IF(Paste!K10="","",Paste!K10) | D10: =IF(Paste!G10="","",Paste!G10) -> 46198 | E10: =IF(Paste!H10="","",Paste!H10) -> 0.44027778 | F10: =IF(Paste!J10="","",Paste!J10) -> Prepared for delivery | G10: =IF(Paste!I10="","",Paste!I10) -> DUBAI | H10: . | I10: =IF(B9=B10,I9+1,9) -> 17
A11: =IF(Paste!B11="","",Paste!B11) -> 408638240 | B11: =VLOOKUP(A:A,Refrence!A:B,2,FALSE) -> 980103619 | C11: =IF(Paste!K11="","",Paste!K11) -> Failed attempt | D11: =IF(Paste!G11="","",Paste!G11) -> 46198 | E11: =IF(Paste!H11="","",Paste!H11) -> 0.82152778 | F11: =IF(Paste!J11="","",Paste!J11) -> Delivery attempted – Consignee requested future delivery to 2026-6-29 | G11: =IF(Paste!I11="","",Paste!I11) -> DUBAI | H11: . | I11: =IF(B10=B11,I10+1,9) -> 18
A12: =IF(Paste!B12="","",Paste!B12) -> 2407746714 | B12: =VLOOKUP(A:A,Refrence!A:B,2,FALSE) -> 980103618 | C12: =IF(Paste!K12="","",Paste!K12) | D12: =IF(Paste!G12="","",Paste!G12) -> 46196 | E12: =IF(Paste!H12="","",Paste!H12) -> 0.76666667 | F12: =IF(Paste!J12="","",Paste!J12) -> Shipment picked up | G12: =IF(Paste!I12="","",Paste!I12) -> MUSCAT - OMAN | H12: . | I12: =IF(B11=B12,I11+1,9) -> 9
A13: =IF(Paste!B13="","",Paste!B13) -> 2407746714 | B13: =VLOOKUP(A:A,Refrence!A:B,2,FALSE) -> 980103618 | C13: =IF(Paste!K13="","",Paste!K13) | D13: =IF(Paste!G13="","",Paste!G13) -> 46196 | E13: =IF(Paste!H13="","",Paste!H13) -> 0.87152778 | F13: =IF(Paste!J13="","",Paste!J13) -> Processed at MUSCAT - OMAN | G13: =IF(Paste!I13="","",Paste!I13) -> MUSCAT - OMAN | H13: . | I13: =IF(B12=B13,I12+1,9) -> 10
A14: =IF(Paste!B14="","",Paste!B14) -> 2407746714 | B14: =VLOOKUP(A:A,Refrence!A:B,2,FALSE) -> 980103618 | C14: =IF(Paste!K14="","",Paste!K14) | D14: =IF(Paste!G14="","",Paste!G14) -> 46196 | E14: =IF(Paste!H14="","",Paste!H14) -> 0.87777778 | F14: =IF(Paste!J14="","",Paste!J14) -> Shipment has departed from a DHL facility MUSCAT - OMAN | G14: =IF(Paste!I14="","",Paste!I14) -> MUSCAT - OMAN | H14: . | I14: =IF(B13=B14,I13+1,9) -> 11
... A415: =IF(Paste!B415="","",Paste!B415) | B415: =VLOOKUP(A:A,Refrence!A:B,2,FALSE) -> #N/A | C415: =IF(Paste!K415="","",Paste!K415) | D415: =IF(Paste!G415="","",Paste!G415) | E415: =IF(Paste!H415="","",Paste!H415) | F415: =IF(Paste!J415="","",Paste!J415) | G415: =IF(Paste!I415="","",Paste!I415) | H415: . | I415: =IF(B414=B415,I414+1,9) -> #N/A

Sheet Delivered
A1: Tracking Number | B1: Reference Number | C1: Sl No | D1: Booking Number | E1: Company Code | F1: To Country | G1: Item Description | H1: Delivery Agent
A2: 6047681426 | B2: 980102777 | C2: Delivered | E2: IMPEX
A3: 33449796903 | B3: 980102797 | C3: Delivered | E3: IMPEX
A4: 35654382304 | B4: 980102790 | C4: Delivered | F4: Oman | H4: ARAMEX
A5: 9483499524 | B5: 980102798 | C5: Delivered | F5: USA | G5: ASP | H5: DHL
A6: 6596217316 | B6: 980102796 | C6: Delivered | F6: GERMANY | G6: ASP | H6: DHL
A7: 7367395652 | B7: 980102793 | C7: Delivered | D7: 991033595 | F7: Kuwait | H7: DHL
A8: 771443850767 | B8: 980102795 | C8: Delivered | D8: 991033597 | E8: 1012 | F8: United Kingdom | G8: FEDEX
A9: 7732322124 | B9: 980102785 | C9: Delivered | D9: 991033588 | E9: 1012 | F9: United States | G9: DHL
A10: 6399172054 | B10: 980102779 | C10: Delivered | D10: 991033585 | E10: 1012 | F10: Finland | G10: DHL
A11: 771443850540 | B11: 980102781 | C11: Delivered | D11: 991033586 | E11: 1012 | F11: Finland | G11: FEDEX
A12: 7732309922 | B12: 980102783 | C12: 54 | D12: 991033587 | E12: 1012 | F12: United States | G12: DHL
A13: 4785453886 | B13: 980102786 | C13: Delivered | D13: 991033589 | E13: 1012 | F13: United States | G13: DHL8336801664
A14: 771444813184 | B14: 980102787 | C14: Delivered | D14: 991033590 | E14: 1012 | F14: United States | G14: FEDEX
A15: 771443716791 | B15: 980102789 | C15: Delivered | D15: 991033591 | E15: 1012 | F15: Germany | G15: FEDEX
A16: 6399057792 | B16: 980102791 | C16: Delivered | D16: 991033593 | E16: 1012 | F16: Germany | G16: DHL
A17: 771444923913 | B17: 980102792 | C17: Delivered | D17: 991033594 | E17: 1012 | F17: Japan | G17: FEDEX
A18: 7732354921 | B18: 980102794 | C18: Delivered | D18: 991033596 | E18: 1012 | F18: United Kingdom | G18: DHL
A19: 1Z28771R0494374248 | B19: 980102767 | C19: Delivered | D19: 991033506 | E19: 1012 | F19: China | G19: ABS Plastic Parts | H19: UPS
A20: 771227838640 | B20: 980102742 | C20: Delivered | H20: Fedex
A21: 5991976012 | B21: 980102775 | C21: Delivered | E21: IMPEX | G21: DHL | H21: DHL
A22: 771378461835 | B22: 980102734 | C22: Delivered | H22: Fedex
A23: 7976394123 | B23: 980102772 | C23: Delivered | H23: DHL
A24: 5576764620 | B24: 980102778 | C24: Delivered | F24: denmark
A25: 771339977911 | B25: 980102761 | C25: Delivered | D25: 991033501 | E25: 1012 | F25: Germany | G25: Document | H25: FEDEX
A26: 1042715166 | B26: 980102762 | C26: 42 | D26: 991033502 | E26: 1012 | F26: Canada | G26: Document | H26: EMX 1000031503456
A27: 1621925325 | B27: 980102763 | C27: Delivered | D27: 991033503 | E27: 1012 | F27: China | G27: Cotton Fiber Sample | H27: DHL
A28: 1622041551 | B28: 980102764 | C28: Delivered | D28: 991033504 | E28: 1012 | F28: Croatia | G28: Copper Handicraft as Gift | H28: DHL
A29: 771340515927 | B29: 980102765 | C29: Delivered | D29: 991033505 | E29: 1012 | F29: Nepal | G29: Machine Made Rug as Gift | H29: FEDEX
A30: 1621932270 | B30: 980102770 | C30: Delivered | D30: 991033507 | E30: 1012 | F30: China | G30: PVC Banner Sample | H30: DHL
A31: 1622052062 | B31: 980102771 | C31: Delivered | D31: 991033508 | E31: 1012 | F31: United States | G31: Stone Sample for Study Only | H31: DHL
A32: 771227838640 | B32: 980102742 | C32: Delivered | F32: Dubai to Spain | G32: FEDEX
A33: 33449756804 | B33: 980102751 | C33: Delivered | E33: IMPEX | G33: ARAMEX
A34: 7903302676 | B34: 980102754 | C34: Delivered | G34: DHL
A35: 2257009123 | B35: 980102755 | C35: Delivered | G35: DHL
A36: 771254566770 | B36: 980102756 | C36: Delivered | D36: 991033467 | E36: 1012 | F36: Luxembourg | G36: FEDEX
A37: 771254566895 | B37: 980102757 | C37: Delivered | D37: 991033468 | E37: 1012 | F37: Italy | G37: FEDEX
A38: 2072898914 | B38: 980102758 | C38: Delivered | D38: 991033469 | E38: 1012 | F38: United States | G38: DHL
A39: 9904225553 | B39: 980102704 | C39: Delivered | D39: 991033157 | E39: 1012 | F39: Canada | G39: DHL
A40: 4258892330 | B40: 980102700 | C40: Delivered | D40: 991033154 | E40: 1012 | F40: Ghana | G40: AED 200 EXTRA CHARGE
A41: 1468762503 | B41: 980102699 | C41: Delivered | D41: 991033153 | E41: 1012 | F41: India | G41: DHL
A42: 770870787954 | B42: 980102702 | C42: Delivered | D42: 991033155 | E42: 1012 | F42: Spain | G42: FEDEX
A43: 770870822607 | B43: 980102703 | C43: Delivered | D43: 991033156 | E43: 1012 | F43: Germany | G43: FEDEX
A44: 770870790148 | B44: 980102706 | C44: Delivered | D44: 991033158 | E44: 1012 | F44: Spain | G44: FEDEX
A45: 770870790402 | B45: 980102707 | C45: Delivered | D45: 991033159 | E45: 1012 | F45: Netherlands | G45: FEDEX
A46: 770870788218 | B46: 980102691 | C46: Delivered | D46: 991033149 | E46: 1012 | F46: Denmark | G46: FEDEX
A47: 1ZW7427E0454252117 | B47: 980102695 | C47: Delivered | D47: 991033150 | E47: 1012 | F47: Canada | G47: DHL
A48: 1283850632 | B48: 980102697 | C48: Delivered | D48: 991033151 | E48: 1012 | F48: Pakistan | G48: DHL 8296334550 return
A49: EE508257275AE | B49: 980102698 | C49: 74 | D49: 991033152 | E49: 1012 | F49: RUSSIA | G49: EMX
A50: 50357840271 | B50: 980102717 | C50: Delivered | D50: 991033211 | E50: 1012 | F50: United Arab Emirates | G50: ARAMEX
A51: 35653018914 | B51: 980102710 | C51: Delivered | D51: 991033206 | E51: 1012 | F51: Canada | G51: EMX
A52: 35653019216 | B52: 980102711 | C52: Delivered | D52: 991033207 | E52: 1012 | F52: Canada | G52: EMX
A53: 5982748380 | B53: 980102712 | C53: Delivered | D53: 991033208 | E53: 1012 | F53: United States | G53: DHL
A54: 7612217266 | B54: 980102713 | C54: Delivered | D54: 991033209 | E54: 1012 | F54: United Kingdom | G54: DHL
A55: 1108174373 | B55: 980102714 | C55: Delivered | D55: 991033210 | E55: 1012 | F55: United States | G55: DHL
A56: 1395948256 | B56: 980102718 | C56: Delivered | F56: im | G56: DHL
A57: 771021144333 | B57: 980102721 | C57: Delivered | F57: Sweden | G57: FEDEX
A58: 2521624313 | B58: 980102667 | C58: Delivered | D58: 991033148 | E58: 1012 | F58: United States | G58: HOLD BY INS.
A59: 1866237214 | B59: 980102716 | C59: Delivered | D59: 991033324 | E59: 1012 | F59: United States | G59: DHL
A60: 8467815311 | B60: 980102724 | C60: Delivered | D60: 991033326 | E60: 1012 | F60: United States | G60: EMX
A61: 8467813513 | B61: 980102723 | C61: Delivered | D61: 991033325 | E61: 1012 | F61: China | G61: 1000031243452
A62: 2083721813 | B62: 980102729 | C62: Delivered | E62: IMPEX | G62: DHL
A63: 33449728712 | B63: 980102728 | C63: Delivered | E63: IMPEX | G63: ARAMEX
A64: 8452951662 | B64: 980102727 | C64: Delivered | D64: 991033329 | E64: 1012 | F64: Belgium | G64: DHL
A65: 8452943240 | B65: 980102726 | C65: Delivered | D65: 991033328 | E65: 1012 | F65: Belgium | G65: DHL
A66: 4159332063 | B66: 980102725 | C66: Delivered | D66: 991033327 | E66: 1012 | F66: France | G66: DHL
A67: 1644478124 | B67: 980102738 | C67: Delivered | D67: 991033414 | E67: 1012 | F67: United States | G67: DHL
A68: 1644498321 | B68: 980102739 | C68: Delivered | D68: 991033415 | E68: 1012 | F68: United States | G68: DHL
A69: 9984466376 | B69: 980102740 | C69: Delivered | D69: 991033416 | E69: 1012 | F69: United States | G69: DHL
A70: 771178268026 | B70: 980102744 | C70: Delivered | D70: 991033418 | E70: 1012 | F70: Portugal | G70: FEDEX
A71: 1461689714 | B71: 980102747 | C71: Delivered | D71: 991033419 | E71: 1012 | F71: United States | G71: EMX 1000031356819
A72: 4445203825 | B72: 980102748 | C72: Delivered | D72: 991033420 | E72: 1012 | F72: Vietnam | G72: DHL
A73: 50359464234 | B73: 980102745 | C73: Delivered | D73: 991033411 | E73: 1012 | F73: United Arab Emirates | G73: APSITEX/aramex
A74: 5371977586 | B74: 980102733 | C74: Delivered | D74: 991033376 | E74: 1012 | F74: India | G74: DHL
A75: 4827735091 | B75: 980102731 | C75: Delivered | D75: 991033375 | E75: 1012 | F75: Kyrgyzstan | G75: EMX 1000031298602
A76: 771111911449 | B76: 980102730 | C76: Delivered | D76: 991033374 | E76: 1012 | F76: Germany | G76: FEDEX
A77: 771409886431 | B77: 980102741 | C77: Delivered | H77: Fedex
A78: APSITEX | B78: 980102784 | C78: 28 | D78: 991033598 | E78: 1012 | F78: United Arab Emirates
A79: APSITEX | B79: 980102788 | C79: 30 | D79: 991033599 | E79: 1012 | F79: United Arab Emirates
A80: 991033281 | B80: 980102720 | G80: APSI
A81: 991033413 | B81: 980102749 | C81: 21 | D81: 991033413 | E81: 1012 | F81: United Arab Emirates | G81: APSITEX
A82: 991033412 | B82: 980102746 | C82: 22 | D82: 991033412 | E82: 1012 | F82: United Arab Emirates | G82: APSITEX
A83: 991033410 | B83: 980102737 | C83: 24 | D83: 991033410 | E83: 1012 | F83: United Arab Emirates | G83: APSITEX
A84: 991033417 | B84: 980102743 | C84: 43 | D84: 991033417 | E84: 1012 | F84: United Arab Emirates | G84: APSITEX
A85: HOLD | B85: 980102734 | C85: Delivered | D85: 991033377 | E85: 1012 | F85: United States | G85: AS PER INS
A86: 980102732 | B86: 980102732 | C86: 4 | D86: 991033373 | E86: 1012 | F86: United Arab Emirates | G86: APSITEX
A87: 980102736 | B87: 980102736 | C87: 5 | D87: 991033372 | E87: 1012 | F87: United Arab Emirates | G87: APSITEX
A88: 980102735 | B88: 980102735 | C88: 6 | D88: 991033371 | E88: 1012 | F88: United Arab Emirates | G88: APSITEX
A89: 991033514 | B89: 980102773 | C89: 19 | D89: 991033514 | E89: 1012 | F89: United Arab Emirates | G89: Woman Dress as Gift | H89: APSITEX
A90: 991033515 | B90: 980102774 | C90: 20 | D90: 991033515 | E90: 1012 | F90: United Arab Emirates | G90: Carpet Label Sample | H90: APSITEX
A91: 991033513 | B91: 980102760 | C91: 21 | D91: 991033513 | E91: 1012 | F91: United Arab Emirates | G91: women's clothes & Sweets as Gift | H91: APSITEX
A92: 991033512 | B92: 980102766 | C92: 22 | D92: 991033512 | E92: 1012 | F92: United Arab Emirates | G92: Document | H92: APSITEX
A93: 991033510 | B93: 980102768 | C93: 23 | D93: 991033510 | E93: 1012 | F93: United Arab Emirates | G93: Document | H93: APSITEX
A94: 5582005914 | B94: 980102752 | E94: IMPEX | G94: DHL

Sheet test
A1: To Country | B1: Reference Number | C1: Booking Number | D1: Tracking Number | E1: Delivery Agent | F1: Sl No | G1: Company Code
A2: Korea, Republic of | B2: 980102804 | C2: 991033703 | D2: 8443665226 | E2: DHL | F2: 17
A3: Germany | B3: 980102803 | C3: 991033702 | D3: 771594734213 | E3: FEDEX | F3: 18
A4: United Arab Emirates | B4: 980102799 | C4: 991033704 | D4: APSITEX | E4: APSITEX | F4: 4
A6: Reference Number | B6: Booking Date | C6: Company Code | D6: Sl No | E6: Tracking Number | F6: Booking Number | G6: To Country | H6: Delivery Agent
A7: 980102809 | B7: 45680.167 | C7: 1012 | D7: 32 | E7: 771650617510 | F7: 991033744 | G7: Germany | H7: FEDEX
A8: 980102807 | B8: 45680.167 | C8: 1012 | D8: 33 | E8: 771650616925 | F8: 991033743 | G8: Spain | H8: FEDEX
A9: 980102806 | B9: 45680.167 | C9: 1012 | D9: 34 | E9: 1000031783003 | F9: 991033742 | G9: Canada | H9: EMX
A10: 980102805 | B10: 45680.167 | C10: 1012 | D10: 35 | E10: 771650615594 | F10: 991033741 | G10: Austria | H10: FEDEX
A16: Booking Number | B16: To Country | C16: Tracking Number | D16: Company Code | E16: Sl No | F16: Reference Number | G16: Delivery Agent
A17: 991033792 | B17: United Arab Emirates | C17: 991033792 | D17: 1012 | E17: 11 | F17: 980102818 | G17: APSITEX
A18: 991033791 | B18: United Kingdom | C18: HOLD | D18: 1012 | E18: 12 | F18: 980102819 | G18: MIX COMMODITY
A19: 991033793 | B19: United Arab Emirates | C19: 50362971842 | D19: 1012 | E19: 37 | F19: 980102821 | G19: ARAMEX
A20: 991033790 | B20: Indonesia | C20: 3801753034 | D20: 1012 | E20: 40 | F20: 980102816 | G20: DHL
A21: 991033789 | B21: Canada | C21: 1000031871274 | D21: 1012 | E21: 41 | F21: 980102815 | G21: EMX
A22: 991033788 | B22: Belgium | C22: 771741902443 | D22: 1012 | E22: 42 | F22: 980102810 | G22: FEDEX
A24: Company Code | B24: Tracking Number | C24: Sl No | D24: To Country | E24: Reference Number | F24: Booking Number | G24: Delivery Agent
A25: 1012 | B25: 991033877 | C25: 14 | D25: United Arab Emirates | E25: 980102829 | F25: 991033877 | G25: APSITEX
A26: 1012 | B26: MSDS/NON DG | C26: 15 | D26: Pakistan | E26: 980102831 | F26: 991033874 | G26: HOLD
A27: 1012 | B27: UNDER VALUE/HOLD | C27: 16 | D27: India | E27: 980102822 | F27: 991033868 | G27: HOLD
A28: 1012 | B28: 35655525124 | C28: 40 | D28: Kenya | E28: 980102833 | F28: 991033876 | G28: ARAMEX
A29: 1012 | B29: 1000031984289 | C29: 41 | D29: United States | E29: 980102832 | F29: 991033875 | G29: EMX
A30: 1012 | B30: 1000031985487 | C30: 43 | D30: Malaysia | E30: 980102830 | F30: 991033873 | G30: EMX
A31: 1012 | B31: 1000031984115 | C31: 44 | D31: United States | E31: 980102828 | F31: 991033872 | G31: EMX
A32: 1012 | B32: 771856500560 | C32: 45 | D32: France | E32: 980102825 | F32: 991033871 | G32: FEDEX
A33: 1012 | B33: 1000031984077 | C33: 46 | D33: United States | E33: 980102824 | F33: 991033870 | G33: EMX
A34: 1012 | B34: 771856561193 | C34: 47 | D34: Turkey | E34: 980102823 | F34: 991033869 | G34: FEDEX
A36: Company Code | B36: Tracking Number | C36: Sl No | D36: To Country | E36: Reference Number | F36: Booking Number | G36: Delivery Agent
A37: 1012 | B37: 991034127 | C37: 5 | D37: United Arab Emirates | E37: 980102869 | F37: 991034127 | G37: APSITEX
A38: 1012 | B38: 991034126 | C38: 6 | D38: United Arab Emirates | E38: 980102868 | F38: 991034126 | G38: APSITEX
A39: 1012 | B39: 35656453722 | C39: 23 | D39: Qatar | E39: 980102866 | F39: 991034125 | G39: ARAMEX
A40: 1012 | B40: 1028907795 | C40: 24 | D40: United States | E40: 980102870 | F40: 991034124 | G40: DHL
A41: 1012 | B41: 3649707073 | C41: 25 | D41: Italy | E41: 980102867 | F41: 991034123 | G41: DHL
A43: 1012 | B43: 772222894611 | C43: 27 | D43: Serbia | E43: 980102872 | F43: 991034176 | G43: FEDEX
A44: 1012 | B44: EE508363185AE | C44: 28 | D44: Russian Federation | E44: 980102874 | F44: 991034177 | G44: EMX
A45: 1012 | B45: 772222884779 | C45: 29 | D45: Czech Republic | E45: 980102875 | F45: 991034178 | G45: FEDEX
A46: 1012 | B46: 1000032314300 | C46: 30 | D46: United States | E46: 980102876 | F46: 991034179 | G46: EMX
A47: 1012 | B47: 35656642954 | C47: 31 | D47: Saudi Arabia | E47: 980102878 | F47: 991034181 | G47: ARAMEX
A48: 1012 | B48: UNDER PROCESS | C48: 66 | D48: Thailand | E48: 980102877 | F48: 991034180 | G48: DHL
A49: 1012 | B49: 991034175 | C49: 67 | D49: United Arab Emirates | E49: 980102873 | F49: 991034175 | G49: APSITEX
A52: 1012 | B52: KYC/CONSIGNEE | C52: 3 | D52: India | E52: 980102722 | F52: 991034246 | G52: HOLD
A53: 1012 | B53: BY INS. / MSDS / NON DG | C53: 4 | D53: Kuwait | E53: 980102890 | F53: 991034253 | G53: HOLD
A54: 1012 | B54: 991034254 | C54: 5 | D54: United Arab Emirates | E54: 980102885 | F54: 991034254 | G54: APSITEX
A55: 1012 | B55: 991034255 | C55: 6 | D55: United Arab Emirates | E55: 980102888 | F55: 991034255 | G55: APSITEX
A56: 1012 | B56: 991034256 | C56: 7 | D56: United Arab Emirates | E56: 980102889 | F56: 991034256 | G56: HOLD
A57: 1012 | B57: 1000032375704 | C57: 25 | D57: Canada | E57: 980102881 | F57: 991034247 | G57: EMX
A58: 1012 | B58: 772297435892 | C58: 26 | D58: United Kingdom | E58: 980102882 | F58: 991034248 | G58: FEDEX
A59: 1012 | B59: 772297436947 | C59: 27 | D59: United Kingdom | E59: 980102883 | F59: 991034249 | G59: FEDEX
A60: 1012 | B60: 35656893193 | C60: 28 | D60: Kuwait | E60: 980102884 | F60: 991034250 | G60: ARAMEX
A61: 1012 | B61: 35656893521 | C61: 29 | D61: Kuwait | E61: 980102886 | F61: 991034251 | G61: ARAMEX
A62: 1012 | B62: 8747042544 | C62: 30 | D62: United States | E62: 980102887 | F62: 991034252 | G62: DHL
A65: 1012 | B65: 991034316 | C65: 5 | D65: United Arab Emirates | E65: 980102893 | F65: 991034316 | G65: APSITEX
A66: 1012 | B66: UNDER PROCESS | C66: 6 | D66: China | E66: 980102897 | F66: 991034311 | G66: DHL
A67: 1012 | B67: UNDER PROCESS | C67: 7 | D67: Spain | E67: 980102898 | F67: 991034312 | G67: DHL
A68: 1012 | B68: NEXT CYCLE | C68: 8 | D68: Canada | E68: 980102900 | F68: 991034314 | G68: HOLD
A69: 1012 | B69: NEXT CYCLE | C69: 9 | D69: Canada | E69: 980102901 | F69: 991034315 | G69: HOLD
A70: 1012 | B70: 772385094180 | C70: 30 | D70: Turkey | E70: 980102895 | F70: 991034309 | G70: FEDEX
A71: 1012 | B71: 5598442511 | C71: 39 | D71: Canada | E71: 980102899 | F71: 991034313 | G71: DHL
A72: 1012 | B72: 35657186865 | C72: 42 | D72: Kuwait | E72: 980102896 | F72: 991034310 | G72: ARMEX
A73: 1012 | B73: 772385093492 | C73: 44 | D73: Turkey | E73: 980102894 | F73: 991034308 | G73: FEDEX
A74: 1012 | B74: 3091093902 | C74: 45 | D74: United States | E74: 980102838 | F74: 991034307 | G74: DHL
A76: 1012 | B76: UNDER VALUE / PLEASE ADVISE THE REAL VALUE | C76: 9 | D76: Canada | E76: 980102907 | F76: 991034348 | G76: HOLD
A77: 1012 | B77: 991034351 | C77: 10 | D77: United Arab Emirates | E77: 980102905 | F77: 991034351 | G77: APSITEX
A78: 1012 | B78: UNDER PROCESSING | C78: 11 | D78: United States | E78: 980102908 | F78: 991034349 | G78: UPS
A79: 1012 | B79: DIM CHANGED / 111X13X13 / 116X13X13 | C79: 12 | D79: United States | E79: 980102904 | F79: 991034347 | G79: HOLD
A80: 1012 | B80: 35657597312 | C80: 17 | D80: Oman | E80: 980102903 | F80: 991034346 | G80: ARAMEX
A81: 1012 | B81: 1000032522204 | C81: 19 | D81: United States | E81: 980102906 | F81: 991034350 | G81: EMX
A83: 1012 | B83: 772546187568 | C83: 29 | D83: United Kingdom | E83: 980102910 | F83: 991034408 | G83: FEDEX
A84: 1012 | B84: 1000032600783 | C84: 43 | D84: United States | E84: 980102909 | F84: 991034407 | G84: EMX
A85: 1012 | B85: 991034406 | C85: 44 | D85: United Arab Emirates | E85: 980102911 | F85: 991034406 | G85: APSITEX
A91: 1012 | B91: 1000032749433 | C91: 53 | D91: Philippines | E91: 980102929 | F91: 991034535 | G91: EMX
A92: 1012 | B92: 1000032749410 | C92: 58 | D92: India | E92: 980102919 | F92: 991034530 | G92: EMX
A93: 1012 | B93: 772715138062 | C93: 63 | D93: Switzerland | E93: 980102920 | F93: 991034531 | G93: FEDEX
A94: 1012 | B94: 2106586086 | C94: 64 | D94: Australia | E94: 980102921 | F94: 991034532 | G94: DHL
A95: 1012 | B95: 35658807612 | C95: 65 | D95: Oman | E95: 980102922 | F95: 991034533 | G95: ARAMEX
A96: 1012 | B96: 1000032749422 | C96: 66 | D96: Canada | E96: 980102923 | F96: 991034534 | G96: EMX
A97: 1012 | B97: 50402739855 | C97: 67 | D97: United Arab Emirates | E97: 980102926 | F97: 991034537 | G97: ARAMEX
... A100: 1012 | B100: 991034539 | C100: 23 | D100: United Arab Emirates | E100: 980102928 | F100: 991034539 | G100: APSITEX
A102: To Country | B102: Delivery AWB | C102: Sl No | D102: Delivery Agent | E102: Reference Number | F102: Booking Number
A103: Jordan | B103: 35659322532 | C103: 31 | D103: ARAMEX | E103: 980102931 | F103: 991034589
A104: Kuwait | B104: 35659321714 | C104: 39 | D104: ARAMEX | E104: 980102930 | F104: 991034588
A105: United States | B105: 1000032823913 | C105: 41 | D105: EMX | E105: 980102932 | F105: 991034590
A106: Finland | B106: 772790389958 | C106: 42 | D106: FEDEX | E106: 980102933 | F106: 991034591
A107: Germany | B107: 772790390252 | C107: 43 | D107: FEDEX | E107: 980102934 | F107: 991034592
A108: Germany | B108: 7726029216 | C108: 44 | D108: DHL | E108: 980102935 | F108: 991034593
A109: United States | B109: 1000032824224 | C109: 45 | D109: EMX | E109: 980102937 | F109: 991034594
A110: Pakistan | B110: 7726048131 | C110: 46 | D110: DHL | E110: 980102938 | F110: 991034595
A113: To Country | B113: Sl No | C113: Reference Number | D113: Tracking Number | E113: Booking Number | F113: Company Code | G113: Delivery Agent
A114: United States | B114: 7 | C114: 980102953 | D114: 20 KG - CW | E114: 991034725 | F114: 1012 | G114: HOLD
A115: Switzerland | B115: 8 | C115: 980102949 | D115: COUNTERFEIT ITEMS | E115: 991034721 | F115: 1012 | G115: HOLD
A116: United States | B116: 47 | C116: 980102952 | D116: 1621407896 | E116: 991034724 | F116: 1012 | G116: DHL
A117: United States | B117: 48 | C117: 980102951 | D117: 1621399430 | E117: 991034723 | F117: 1012 | G117: DHL
A118: China | B118: 49 | C118: 980102950 | D118: 1621393082 | E118: 991034722 | F118: 1012 | G118: DHL
A119: Czech Republic | B119: 51 | C119: 980102947 | D119: 880479546890 | E119: 991034720 | F119: 1012 | G119: FEDEX
A121: Tracking Number | B121: Reference Number | C121: Booking Number | D121: Sl No | E121: Company Code | F121: To Country | G121: Delivery Agent
A122: 991034775 | B122: 980102959 | C122: 991034775 | D122: 4 | E122: 1012 | F122: United Arab Emirates | G122: APSITEX
A123: 991034774 | B123: 980102958 | C123: 991034774 | D123: 5 | E123: 1012 | F123: United Arab Emirates | G123: APSITEX
A124: 8197962835 | B124: 980102957 | C124: 991034773 | D124: 19 | E124: 1012 | F124: Poland | G124: DHL
A125: 5216823360 | B125: 980102956 | C125: 991034772 | D125: 20 | E125: 1012 | F125: Switzerland | G125: DHL
A126: 8.80557E+11 | B126: 980102954 | C126: 991034771 | D126: 21 | E126: 1012 | F126: Germany | G126: FEDEX
...
