Workbook

Sheet Sheet1
A1: AWB | B1: Last State | C1: Date | D1: Time | E1: State | F1: Country | G1: Location | H1: Order No
A2: 980103619 | C2: 46193 | D2: 0.27430556 | E2: Waybill created. Shipment has not been received from the retailer | F2: SYSTEM | G2: . | H2: 9
A3: 980103619 | C3: 46197 | D3: 0.12222222 | E3: Picked up by Naqel | F3: DUBAI | G3: . | H3: 10
A4: 980103619 | C4: 46197 | D4: 0.12569444 | E4: Arrived at Naqel Facility | F4: DUBAI | G4: . | H4: 11
A5: 980103619 | C5: 46197 | D5: 0.12916667 | E5: Re-Weight | F5: DUBAI | G5: . | H5: 12
A6: 980103619 | C6: 46197 | D6: 0.29513889 | E6: Out For Delivery with Courier | F6: DUBAI | G6: . | H6: 13
A7: 980103619 | C7: 46197 | D7: 0.33125 | E7: Prepared for delivery | F7: DUBAI | G7: . | H7: 14
A8: 980103619 | C8: 46197 | D8: 0.71944444 | E8: Delivery attempted – City/Area/District is incorrect - Please contact Naqel . | F8: AJMAN | G8: . | H8: 15
A9: 980103619 | C9: 46198 | D9: 0.31041667 | E9: Out For Delivery with Courier | F9: DUBAI | G9: . | H9: 16
A10: 980103619 | C10: 46198 | D10: 0.44027778 | E10: Prepared for delivery | F10: DUBAI | G10: . | H10: 17
A11: 980103619 | B11: Failed attempt | C11: 46198 | D11: 0.82152778 | E11: Delivery attempted – Consignee requested future delivery to 2026-6-29 | F11: DUBAI | G11: . | H11: 18
A12: 980103618 | C12: 46196 | D12: 0.76666667 | E12: Shipment picked up | F12: MUSCAT - OMAN | G12: . | H12: 9
A13: 980103618 | C13: 46196 | D13: 0.87152778 | E13: Processed at MUSCAT - OMAN | F13: MUSCAT - OMAN | G13: . | H13: 10
A14: 980103618 | C14: 46196 | D14: 0.87777778 | E14: Shipment has departed from a DHL facility MUSCAT - OMAN | F14: MUSCAT - OMAN | G14: . | H14: 11
A15: 980103618 | C15: 46197 | D15: 0.15555556 | E15: Arrived at DHL Sort Facility DUBAI - UNITED ARAB EMIRATES | F15: DUBAI - UNITED ARAB EMIRATES | G15: . | H15: 12
A16: 980103618 | C16: 46197 | D16: 0.47777778 | E16: Processed at DUBAI - UNITED ARAB EMIRATES | F16: DUBAI - UNITED ARAB EMIRATES | G16: . | H16: 13
A17: 980103618 | C17: 46197 | D17: 0.49305556 | E17: Shipment has departed from a DHL facility DUBAI - UNITED ARAB EMIRATES | F17: DUBAI - UNITED ARAB EMIRATES | G17: . | H17: 14
A18: 980103618 | C18: 46197 | D18: 0.74305556 | E18: Customs clearance status updated. Note - The Customs clearance process may start while the shipment is in transit to the destination. | F18: CINCINNATI HUB - Ohio - USA | G18: . | H18: 15
A19: 980103618 | C19: 46197 | D19: 0.84583333 | E19: Shipment is in transit to destination | F19: LEIPZIG - GERMANY | G19: . | H19: 16
A20: 980103618 | C20: 46197 | D20: 0.84652778 | E20: Shipment has departed from a DHL facility LEIPZIG - GERMANY | F20: LEIPZIG - GERMANY | G20: . | H20: 17
A21: 980103618 | C21: 46198 | D21: 0.014583333 | E21: Arrived at DHL Sort Facility CINCINNATI HUB - USA | F21: CINCINNATI HUB - Ohio - USA | G21: . | H21: 18
A22: 980103618 | C22: 46198 | D22: 0.028472222 | E22: Clearance processing complete at CINCINNATI HUB - USA | F22: CINCINNATI HUB - Ohio - USA | G22: . | H22: 19
A23: 980103618 | C23: 46198 | D23: 0.16805556 | E23: Processed at CINCINNATI HUB - USA | F23: CINCINNATI HUB - Ohio - USA | G23: . | H23: 20
... A27: 980103618 | C27: 46198 | D27: 0.52291667 | E27: Shipment is out with courier for delivery | F27: HOUSTON - Texas - USA | G27: . | H27: 24
A28: 980103618 | B28: Delivered | C28: 46198 | D28: 0.54375 | E28: Delivered | F28: HOUSTON - USA | G28: . | H28: 25
A29: 980103617 | C29: 46196 | D29: 0.76736111 | E29: Shipment picked up | F29: MUSCAT - OMAN | G29: . | H29: 9
A30: 980103617 | C30: 46196 | D30: 0.87152778 | E30: Processed at MUSCAT - OMAN | F30: MUSCAT - OMAN | G30: . | H30: 10
A31: 980103617 | C31: 46196 | D31: 0.87777778 | E31: Shipment has departed from a DHL facility MUSCAT - OMAN | F31: MUSCAT - OMAN | G31: . | H31: 11
A32: 980103617 | C32: 46197 | D32: 0.055555556 | E32: Customs clearance status updated. Note - The Customs clearance process may start while the shipment is in transit to the destination. | F32: EAST CHINA AREA - CHINA, PEOPLES REPUBLIC | G32: . | H32: 12
A33: 980103617 | C33: 46197 | D33: 0.15555556 | E33: Arrived at DHL Sort Facility DUBAI - UNITED ARAB EMIRATES | F33: DUBAI - UNITED ARAB EMIRATES | G33: . | H33: 13
A34: 980103617 | C34: 46197 | D34: 0.66180556 | E34: Processed at DUBAI - UNITED ARAB EMIRATES | F34: DUBAI - UNITED ARAB EMIRATES | G34: . | H34: 14
A35: 980103617 | C35: 46197 | D35: 0.69791667 | E35: Shipment has departed from a DHL facility DUBAI - UNITED ARAB EMIRATES | F35: DUBAI - UNITED ARAB EMIRATES | G35: . | H35: 15
A36: 980103617 | C36: 46198 | D36: 0.2125 | E36: Arrived at DHL Sort Facility HONG KONG - HONG KONG SAR, CHINA | F36: HONG KONG - HONG KONG SAR, CHINA | G36: . | H36: 16
A37: 980103617 | C37: 46198 | D37: 0.48611111 | E37: Processed at HONG KONG - HONG KONG SAR, CHINA | F37: HONG KONG - HONG KONG SAR, CHINA | G37: . | H37: 17
A38: 980103617 | C38: 46199 | D38: 0.13680556 | E38: Processed at HONG KONG - HONG KONG SAR, CHINA | F38: HONG KONG - HONG KONG SAR, CHINA | G38: . | H38: 18
A39: 980103617 | C39: 46199 | D39: 0.18055556 | E39: Shipment has departed from a DHL facility HONG KONG - HONG KONG SAR, CHINA | F39: HONG KONG - HONG KONG SAR, CHINA | G39: . | H39: 19
A40: 980103617 | C40: 46199 | D40: 0.22152778 | E40: Customs clearance status updated. Note - The Customs clearance process may start while the shipment is in transit to the destination. | F40: EAST CHINA AREA - CHINA, PEOPLES REPUBLIC | G40: . | H40: 20
... A46: 980103617 | C46: 46199 | D46: 0.44444444 | E46: Shipment is out with courier for delivery | F46: SHANGHAI - SHANGHAI - CHINA, PEOPLES REPUBLIC | G46: . | H46: 26
A47: 980103617 | B47: Delivered | C47: 46199 | D47: 0.59722222 | E47: Delivered | F47: SHANGHAI - CHINA, PEOPLES REPUBLIC | G47: . | H47: 27
A48: 980103614 | C48: 46196 | D48: 0.76458333 | E48: Shipment picked up | F48: MUSCAT - OMAN | G48: . | H48: 9
...

Sheet Refrence
A1: Tracking Number | B1: Reference Number | C1: Delivery | D1: Booking Number | E1: IM/EX | F1: To Country | G1: Item Description | H1: Delivery Agent
A2: 2329941040 | B2: 980103609 | D2: 1012 | E2: DHL
A3: 408638268 | B3: 980103612 | E3: Naghel
A4: 8252492625 | B4: 980103613 | E4: DHL
A5: 7095511345 | B5: 980103614 | E5: DHL
A6: 8252494261 | B6: 980103615 | E6: DHL
A7: 8252495241 | B7: 980103616 | E7: DHL
A8: 7095512314 | B8: 980103617 | E8: DHL
A9: 2407746714 | B9: 980103618 | E9: DHL
A10: 408638240 | B10: 980103619 | E10: Naghel
A11: 8252500395 | B11: 980103620 | E11: DHL
B14: 980103108 | F14: United Arab Emirates
A15: 1Z483Y5W0491404336 | B15: 980103079 | C15: 991035590 | F15: China | G15: UPS | H15: 100.00AED disposal charge

Sheet Paste
A1: Tracking number | B1: Tracking number | C1: N | D1: Tracking number | E1: Origin Country | F1: Destination Country | G1: Date | H1: Local Time | I1: Location | J1: Event label | K1: Delivery status
A2: =D2 -> 0 | B2: 408638240 | C2: 98 | G2: 46193 | H2: 0.27430556 | I2: SYSTEM | J2: Waybill created. Shipment has not been received from the retailer
A3: =IF(D3="",A2,D3) -> 0 | B3: 408638240 | C3: 97 | G3: 46197 | H3: 0.12222222 | I3: DUBAI | J3: Picked up by Naqel
A4: =IF(D4="",A3,D4) -> 0 | B4: 408638240 | C4: 96 | G4: 46197 | H4: 0.12569444 | I4: DUBAI | J4: Arrived at Naqel Facility
A5: =IF(D5="",A4,D5) -> 0 | B5: 408638240 | C5: 95 | G5: 46197 | H5: 0.12916667 | I5: DUBAI | J5: Re-Weight
A6: =IF(D6="",A5,D6) -> 0 | B6: 408638240 | C6: 94 | G6: 46197 | H6: 0.29513889 | I6: DUBAI | J6: Out For Delivery with Courier
A7: =IF(D7="",A6,D7) -> 0 | B7: 408638240 | C7: 93 | G7: 46197 | H7: 0.33125 | I7: DUBAI | J7: Prepared for delivery
A8: =IF(D8="",A7,D8) -> 0 | B8: 408638240 | C8: 92 | G8: 46197 | H8: 0.71944444 | I8: AJMAN | J8: Delivery attempted – City/Area/District is incorrect - Please contact Naqel .
A9: =IF(D9="",A8,D9) -> 0 | B9: 408638240 | C9: 91 | G9: 46198 | H9: 0.31041667 | I9: DUBAI | J9: Out For Delivery with Courier
A10: =IF(D10="",A9,D10) -> 0 | B10: 408638240 | C10: 90 | G10: 46198 | H10: 0.44027778 | I10: DUBAI | J10: Prepared for delivery
A11: =IF(D11="",A10,D11) -> 408638240 | B11: 408638240 | C11: 89 | D11: 408638240 | E11: Unknown | G11: 46198 | H11: 0.82152778 | I11: DUBAI | J11: Delivery attempted – Consignee requested future delivery to 2026-6-29 | K11: Failed attempt
A12: =IF(D12="",A11,D12) -> 408638240 | B12: 2407746714 | C12: 88 | G12: 46196 | H12: 0.76666667 | I12: MUSCAT - OMAN | J12: Shipment picked up
A13: =IF(D13="",A12,D13) -> 408638240 | B13: 2407746714 | C13: 87 | G13: 46196 | H13: 0.87152778 | I13: MUSCAT - OMAN | J13: Processed at MUSCAT - OMAN
A14: =IF(D14="",A13,D14) -> 408638240 | B14: 2407746714 | C14: 86 | G14: 46196 | H14: 0.87777778 | I14: MUSCAT - OMAN | J14: Shipment has departed from a DHL facility MUSCAT - OMAN
A15: =IF(D15="",A14,D15) -> 408638240 | B15: 2407746714 | C15: 85 | G15: 46197 | H15: 0.15555556 | I15: DUBAI - UNITED ARAB EMIRATES | J15: Arrived at DHL Sort Facility DUBAI - UNITED ARAB EMIRATES
A16: =IF(D16="",A15,D16) -> 408638240 | B16: 2407746714 | C16: 84 | G16: 46197 | H16: 0.47777778 | I16: DUBAI - UNITED ARAB EMIRATES | J16: Processed at DUBAI - UNITED ARAB EMIRATES
A17: =IF(D17="",A16,D17) -> 408638240 | B17: 2407746714 | C17: 83 | G17: 46197 | H17: 0.49305556 | I17: DUBAI - UNITED ARAB EMIRATES | J17: Shipment has departed from a DHL facility DUBAI - UNITED ARAB EMIRATES
A18: =IF(D18="",A17,D18) -> 408638240 | B18: 2407746714 | C18: 82 | G18: 46197 | H18: 0.74305556 | I18: CINCINNATI HUB - Ohio - USA | J18: Customs clearance status updated. Note - The Customs clearance process may start while the shipment is in transit to the destination.
A19: =IF(D19="",A18,D19) -> 408638240 | B19: 2407746714 | C19: 81 | G19: 46197 | H19: 0.84583333 | I19: LEIPZIG - GERMANY | J19: Shipment is in transit to destination
A20: =IF(D20="",A19,D20) -> 408638240 | B20: 2407746714 | C20: 80 | G20: 46197 | H20: 0.84652778 | I20: LEIPZIG - GERMANY | J20: Shipment has departed from a DHL facility LEIPZIG - GERMANY
A21: =IF(D21="",A20,D21) -> 408638240 | B21: 2407746714 | C21: 79 | G21: 46198 | H21: 0.014583333 | I21: CINCINNATI HUB - Ohio - USA | J21: Arrived at DHL Sort Facility CINCINNATI HUB - USA
A22: =IF(D22="",A21,D22) -> 408638240 | B22: 2407746714 | C22: 78 | G22: 46198 | H22: 0.028472222 | I22: CINCINNATI HUB - Ohio - USA | J22: Clearance processing complete at CINCINNATI HUB - USA
A23: =IF(D23="",A22,D23) -> 408638240 | B23: 2407746714 | C23: 77 | G23: 46198 | H23: 0.16805556 | I23: CINCINNATI HUB - Ohio - USA | J23: Processed at CINCINNATI HUB - USA
... A27: =IF(D27="",A26,D27) -> 408638240 | B27: 2407746714 | C27: 73 | G27: 46198 | H27: 0.52291667 | I27: HOUSTON - Texas - USA | J27: Shipment is out with courier for delivery
A28: =IF(D28="",A27,D28) -> 2407746714 | B28: 2407746714 | C28: 72 | D28: 2407746714 | E28: Unknown | G28: 46198 | H28: 0.54375 | I28: HOUSTON - USA | J28: Delivered | K28: Delivered
A29: =IF(D29="",A28,D29) -> 2407746714 | B29: 7095512314 | C29: 71 | G29: 46196 | H29: 0.76736111 | I29: MUSCAT - OMAN | J29: Shipment picked up
A30: =IF(D30="",A29,D30) -> 2407746714 | B30: 7095512314 | C30: 70 | G30: 46196 | H30: 0.87152778 | I30: MUSCAT - OMAN | J30: Processed at MUSCAT - OMAN
A31: =IF(D31="",A30,D31) -> 2407746714 | B31: 7095512314 | C31: 69 | G31: 46196 | H31: 0.87777778 | I31: MUSCAT - OMAN | J31: Shipment has departed from a DHL facility MUSCAT - OMAN
A32: =IF(D32="",A31,D32) -> 2407746714 | B32: 7095512314 | C32: 68 | G32: 46197 | H32: 0.055555556 | I32: EAST CHINA AREA - CHINA, PEOPLES REPUBLIC | J32: Customs clearance status updated. Note - The Customs clearance process may start while the shipment is in transit to the destination.
A33: =IF(D33="",A32,D33) -> 2407746714 | B33: 7095512314 | C33: 67 | G33: 46197 | H33: 0.15555556 | I33: DUBAI - UNITED ARAB EMIRATES | J33: Arrived at DHL Sort Facility DUBAI - UNITED ARAB EMIRATES
A34: =IF(D34="",A33,D34) -> 2407746714 | B34: 7095512314 | C34: 66 | G34: 46197 | H34: 0.66180556 | I34: DUBAI - UNITED ARAB EMIRATES | J34: Processed at DUBAI - UNITED ARAB EMIRATES
A35: =IF(D35="",A34,D35) -> 2407746714 | B35: 7095512314 | C35: 65 | G35: 46197 | H35: 0.69791667 | I35: DUBAI - UNITED ARAB EMIRATES | J35: Shipment has departed from a DHL facility DUBAI - UNITED ARAB EMIRATES
A36: =IF(D36="",A35,D36) -> 2407746714 | B36: 7095512314 | C36: 64 | G36: 46198 | H36: 0.2125 | I36: HONG KONG - HONG KONG SAR, CHINA | J36: Arrived at DHL Sort Facility HONG KONG - HONG KONG SAR, CHINA
A37: =IF(D37="",A36,D37) -> 2407746714 | B37: 7095512314 | C37: 63 | G37: 46198 | H37: 0.48611111 | I37: HONG KONG - HONG KONG SAR, CHINA | J37: Processed at HONG KONG - HONG KONG SAR, CHINA
A38: =IF(D38="",A37,D38) -> 2407746714 | B38: 7095512314 | C38: 62 | G38: 46199 | H38: 0.13680556 | I38: HONG KONG - HONG KONG SAR, CHINA | J38: Processed at HONG KONG - HONG KONG SAR, CHINA
A39: =IF(D39="",A38,D39) -> 2407746714 | B39: 7095512314 | C39: 61 | G39: 46199 | H39: 0.18055556 | I39: HONG KONG - HONG KONG SAR, CHINA | J39: Shipment has departed from a DHL facility HONG KONG - HONG KONG SAR, CHINA
A40: =IF(D40="",A39,D40) -> 2407746714 | B40: 7095512314 | C40: 60 | G40: 46199 | H40: 0.22152778 | I40: EAST CHINA AREA - CHINA, PEOPLES REPUBLIC | J40: Customs clearance status updated. Note - The Customs clearance process may start while the shipment is in transit to the destination.
... A46: =IF(D46="",A45,D46) -> 2407746714 | B46: 7095512314 | C46: 54 | G46: 46199 | H46: 0.44444444 | I46: SHANGHAI - SHANGHAI - CHINA, PEOPLES REPUBLIC | J46: Shipment is out with courier for delivery
A47: =IF(D47="",A46,D47) -> 7095512314 | B47: 7095512314 | C47: 53 | D47: 7095512314 | E47: Unknown | G47: 46199 | H47: 0.59722222 | I47: SHANGHAI - CHINA, PEOPLES REPUBLIC | J47: Delivered | K47: Delivered
A48: =IF(D48="",A47,D48) -> 7095512314 | B48: 7095511345 | C48: 52 | G48: 46196 | H48: 0.76458333 | I48: MUSCAT - OMAN | J48: Shipment picked up
...

Sheet copy
A1: =IF(Paste!B1="","",Paste!B1) -> Tracking number | B1: AWB | C1: =IF(Paste!K1="","",Paste!K1) -> Delivery status | D1: =IF(Paste!G1="","",Paste!G1) -> Date | E1: =IF(Paste!H1="","",Paste!H1) -> Local Time | F1: =IF(Paste!J1="","",Paste!J1) -> Event label | G1: =IF(Paste!I1="","",Paste!I1) -> Location | I1: Order No
A2: =IF(Paste!B2="","",Paste!B2) -> 408638240 | B2: =VLOOKUP(A:A,Refrence!A:B,2,FALSE) -> 980103619 | C2: =IF(Paste!K2="","",Paste!K2) | D2: =IF(Paste!G2="","",Paste!G2) -> 46193 | E2: =IF(Paste!H2="","",Paste!H2) -> 0.27430556 | F2: =IF(Paste!J2="","",Paste!J2) -> Waybill created. Shipment has not been received from the retailer | G2: =IF(Paste!I2="","",Paste!I2) -> SYSTEM | H2: . | I2: 9
A3: =IF(Paste!B3="","",Paste!B3) -> 408638240 | B3: =VLOOKUP(A:A,Refrence!A:B,2,FALSE) -> 980103619 | C3: =IF(Paste!K3="","",Paste!K3) | D3: =IF(Paste!G3="","",Paste!G3) -> 46197 | E3: =IF(Paste!H3="","",Paste!H3) -> 0.12222222 | F3: =IF(Paste!J3="","",Paste!J3) -> Picked up by Naqel | G3: =IF(Paste!I3="","",Paste!I3) -> DUBAI | H3: . | I3: =IF(B2=B3,I2+1,9) -> 10
A4: =IF(Paste!B4="","",Paste!B4) -> 408638240 | B4: =VLOOKUP(A:A,Refrence!A:B,2,FALSE) -> 980103619 | C4: =IF(Paste!K4="","",Paste!K4) | D4: =IF(Paste!G4="","",Paste!G4) -> 46197 | E4: =IF(Paste!H4="","",Paste!H4) -> 0.12569444 | F4: =IF(Paste!J4="","",Paste!J4) -> Arrived at Naqel Facility | G4: =IF(Paste!I4="","",Paste!I4) -> DUBAI | H4: . | I4: =IF(B3=B4,I3+1,9) -> 11
A5: =IF(Paste!B5="","",Paste!B5) -> 408638240 | B5: =VLOOKUP(A:A,Refrence!A:B,2,FALSE) -> 980103619 | C5: =IF(Paste!K5="","",Paste!K5) | D5: =IF(Paste!G5="","",Paste!G5) -> 46197 | E5: =IF(Paste!H5="","",Paste!H5) -> 0.12916667 | F5: =IF(Paste!J5="","",Paste!J5) -> Re-Weight | G5: =IF(Paste!I5="","",Paste!I5) -> DUBAI | H5: . | I5: =IF(B4=B5,I4+1,9) -> 12
A6: =IF(Paste!B6="","",Paste!B6) -> 408638240 | B6: =VLOOKUP(A:A,Refrence!A:B,2,FALSE) -> 980103619 | C6: =IF(Paste!K6="","",Paste!K6) | D6: =IF(Paste!G6="","",Paste!G6) -> 46197 | E6: =IF(Paste!H6="","",Paste!H6) -> 0.29513889 | F6: =IF(Paste!J6="","",Paste!J6) -> Out For Delivery with Courier | G6: =IF(Paste!I6="","",Paste!I6) -> DUBAI | H6: . | I6: =IF(B5=B6,I5+1,9) -> 13
A7: =IF(Paste!B7="","",Paste!B7) -> 408638240 | B7: =VLOOKUP(A:A,Refrence!A:B,2,FALSE) -> 980103619 | C7: =IF(Paste!K7="","",Paste!K7) | D7: =IF(Paste!G7="","",Paste!G7) -> 46197 | E7: =IF(Paste!H7="","",Paste!H7) -> 0.33125 | F7: =IF(Paste!J7="","",Paste!J7) -> Prepared for delivery | G7: =IF(Paste!I7="","",Paste!I7) -> DUBAI | H7: . | I7: =IF(B6=B7,I6+1,9) -> 14
A8: =IF(Paste!B8="","",Paste!B8) -> 408638240 | B8: =VLOOKUP(A:A,Refrence!A:B,2,FALSE) -> 980103619 | C8: =IF(Paste!K8="","",Paste!K8) | D8: =IF(Paste!G8="","",Paste!G8) -> 46197 | E8: =IF(Paste!H8="","",Paste!H8) -> 0.71944444 | F8: =IF(Paste!J8="","",Paste!J8) -> Delivery attempted – City/Area/District is incorrect - Please contact Naqel . | G8: =IF(Paste!I8="","",Paste!I8) -> AJMAN | H8: . | I8: =IF(B7=B8,I7+1,9) -> 15
A9: =IF(Paste!B9="","",Paste!B9) -> 408638240 | B9: =VLOOKUP(A:A,Refrence!A:B,2,FALSE) -> 980103619 | C9: =IF(Paste!K9="","",Paste!K9) | D9: =IF(Paste!G9="","",Paste!G9) -> 46198 | E9: =IF(Paste!H9="","",Paste!H9) -> 0.31041667 | F9: =IF(Paste!J9="","",Paste!J9) -> Out For Delivery with Courier | G9: =IF(Paste!I9="","",Paste!I9) -> DUBAI | H9: . | I9: =IF(B8=B9,I8+1,9) -> 16
A10: =IF(Paste!B10="","",Paste!B10) -> 408638240 | B10: =VLOOKUP(A:A,Refrence!A:B,2,FALSE) -> 980103619 | C10: =IF(Paste!K10="","",Paste!K10) | D10: =IF(Paste!G10="","",Paste!G10) -> 46198 | E10: =IF(Paste!H10="","",Paste!H10) -> 0.44027778 | F10: =IF(Paste!J10="","",Paste!J10) -> Prepared for delivery | G10: =IF(Paste!I10="","",Paste!I10) -> DUBAI | H10: . | I10: =IF(B9=B10,I9+1,9) -> 17
A11: =IF(Paste!B11="","",Paste!B11) -> 408638240 | B11: =VLOOKUP(A:A,Refrence!A:B,2,FALSE) -> 980103619 | C11: =IF(Paste!K11="","",Paste!K11) -> Failed attempt | D11: =IF(Paste!G11="","",Paste!G11) -> 46198 | E11: =IF(Paste!H11="","",Paste!H11) -> 0.82152778 | F11: =IF(Paste!J11="","",Paste!J11) -> Delivery attempted – Consignee requested future delivery to 2026-6-29 | G11: =IF(Paste!I11="","",Paste!I11) -> DUBAI | H11: . | I11: =IF(B10=B11,I10+1,9) -> 18
A12: =IF(Paste!B12="","",Paste!B12) -> 2407746714 | B12: =VLOOKUP(A:A,Refrence!A:B,2,FALSE) -> 980103618 | C12: =IF(Paste!K12="","",Paste!K12) | D12: =IF(Paste!G12="","",Paste!G12) -> 46196 | E12: =IF(Paste!H12="","",Paste!H12) -> 0.76666667 | F12: =IF(Paste!J12="","",Paste!J12) -> Shipment picked up | G12: =IF(Paste!I12="","",Paste!I12) -> MUSCAT - OMAN | H12: . | I12: =IF(B11=B12,I11+1,9) -> 9
A13: =IF(Paste!B13="","",Paste!B13) -> 2407746714 | B13: =VLOOKUP(A:A,Refrence!A:B,2,FALSE) -> 980103618 | C13: =IF(Paste!K13="","",Paste!K13) | D13: =IF(Paste!G13="","",Paste!G13) -> 46196 | E13: =IF(Paste!H13="","",Paste!H13) -> 0.87152778 | F13: =IF(Paste!J13="","",Paste!J13) -> Processed at MUSCAT - OMAN | G13: =IF(Paste!I13="","",Paste!I13) -> MUSCAT - OMAN | H13: . | I13: =IF(B12=B13,I12+1,9) -> 10
A14: =IF(Paste!B14="","",Paste!B14) -> 2407746714 | B14: =VLOOKUP(A:A,Refrence!A:B,2,FALSE) -> 980103618 | C14: =IF(Paste!K14="","",Paste!K14) | D14: =IF(Paste!G14="","",Paste!G14) -> 46196 | E14: =IF(Paste!H14="","",Paste!H14) -> 0.87777778 | F14: =IF(Paste!J14="","",Paste!J14) -> Shipment has departed from a DHL facility MUSCAT - OMAN | G14: =IF(Paste!I14="","",Paste!I14) -> MUSCAT - OMAN | H14: . | I14: =IF(B13=B14,I13+1,9) -> 11
... A415: =IF(Paste!B415="","",Paste!B415) | B415: =VLOOKUP(A:A,Refrence!A:B,2,FALSE) -> #N/A | C415: =IF(Paste!K415="","",Paste!K415) | D415: =IF(Paste!G415="","",Paste!G415) | E415: =IF(Paste!H415="","",Paste!H415) | F415: =IF(Paste!J415="","",Paste!J415) | G415: =IF(Paste!I415="","",Paste!I415) | H415: . | I415: =IF(B414=B415,I414+1,9) -> #N/A

Sheet Delivered
A1: Tracking Number | B1: Reference Number | C1: Sl No | D1: Booking Number | E1: Company Code | F1: To Country | G1: Item Description | H1: Delivery Agent
A2: 6047681426 | B2: 980102777 | C2: Delivered | E2: IMPEX
A3: 33449796903 | B3: 980102797 | C3: Delivered | E3: IMPEX
A4: 35654382304 | B4: 980102790 | C4: Delivered | F4: Oman | H4: ARAMEX
A5: 9483499524 | B5: 980102798 | C5: Delivered | F5: USA | G5: ASP | H5: DHL
A6: 6596217316 | B6: 980102796 | C6: Delivered | F6: GERMANY | G6: ASP | H6: DHL
A7: 7367395652 | B7: 980102793 | C7: Delivered | D7: 991033595 | F7: Kuwait | H7: DHL
A8: 771443850767 | B8: 980102795 | C8: Delivered | D8: 991033597 | E8: 1012 | F8: United Kingdom | G8: FEDEX
A9: 7732322124 | B9: 980102785 | C9: Delivered | D9: 991033588 | E9: 1012 | F9: United States | G9: DHL
A10: 6399172054 | B10: 980102779 | C10: Delivered | D10: 991033585 | E10: 1012 | F10: Finland | G10: DHL
A11: 771443850540 | B11: 980102781 | C11: Delivered | D11: 991033586 | E11: 1012 | F11: Finland | G11: FEDEX
A12: 7732309922 | B12: 980102783 | C12: 54 | D12: 991033587 | E12: 1012 | F12: United States | G12: DHL
A13: 4785453886 | B13: 980102786 | C13: Delivered | D13: 991033589 | E13: 1012 | F13: United States | G13: DHL8336801664
A14: 771444813184 | B14: 980102787 | C14: Delivered | D14: 991033590 | E14: 1012 | F14: United States | G14: FEDEX
A15: 771443716791 | B15: 980102789 | C15: Delivered | D15: 991033591 | E15: 1012 | F15: Germany | G15: FEDEX
A16: 6399057792 | B16: 980102791 | C16: Delivered | D16: 991033593 | E16: 1012 | F16: Germany | G16: DHL
A17: 771444923913 | B17: 980102792 | C17: Delivered | D17: 991033594 | E17: 1012 | F17: Japan | G17: FEDEX
A18: 7732354921 | B18: 980102794 | C18: Delivered | D18: 991033596 | E18: 1012 | F18: United Kingdom | G18: DHL
A19: 1Z28771R0494374248 | B19: 980102767 | C19: Delivered | D19: 991033506 | E19: 1012 | F19: China | G19: ABS Plastic Parts | H19: UPS
A20: 771227838640 | B20: 980102742 | C20: Delivered | H20: Fedex
A21: 5991976012 | B21: 980102775 | C21: Delivered | E21: IMPEX | G21: DHL | H21: DHL
A22: 771378461835 | B22: 980102734 | C22: Delivered | H22: Fedex
A23: 7976394123 | B23: 980102772 | C23: Delivered | H23: DHL
A24: 5576764620 | B24: 980102778 | C24: Delivered | F24: denmark
A25: 771339977911 | B25: 980102761 | C25: Delivered | D25: 991033501 | E25: 1012 | F25: Germany | G25: Document | H25: FEDEX
A26: 1042715166 | B26: 980102762 | C26: 42 | D26: 991033502 | E26: 1012 | F26: Canada | G26: Document | H26: EMX 1000031503456
A27: 1621925325 | B27: 980102763 | C27: Delivered | D27: 991033503 | E27: 1012 | F27: China | G27: Cotton Fiber Sample | H27: DHL
A28: 1622041551 | B28: 980102764 | C28: Delivered | D28: 991033504 | E28: 1012 | F28: Croatia | G28: Copper Handicraft as Gift | H28: DHL
A29: 771340515927 | B29: 980102765 | C29: Delivered | D29: 991033505 | E29: 1012 | F29: Nepal | G29: Machine Made Rug as Gift | H29: FEDEX
A30: 1621932270 | B30: 980102770 | C30: Delivered | D30: 991033507 | E30: 1012 | F30: China | G30: PVC Banner Sample | H30: DHL
A31: 1622052062 | B31: 980102771 | C31: Delivered | D31: 991033508 | E31: 1012 | F31: United States | G31: Stone Sample for Study Only | H31: DHL
A32: 771227838640 | B32: 980102742 | C32: Delivered | F32: Dubai to Spain | G32: FEDEX
A33: 33449756804 | B33: 980102751 | C33: Delivered | E33: IMPEX | G33: ARAMEX
A34: 7903302676 | B34: 980102754 | C34: Delivered | G34: DHL
A35: 2257009123 | B35: 980102755 | C35: Delivered | G35: DHL
A36: 771254566770 | B36: 980102756 | C36: Delivered | D36: 991033467 | E36: 1012 | F36: Luxembourg | G36: FEDEX
A37: 771254566895 | B37: 980102757 | C37: Delivered | D37: 991033468 | E37: 1012 | F37: Italy | G37: FEDEX
A38: 2072898914 | B38: 980102758 | C38: Delivered | D38: 991033469 | E38: 1012 | F38: United States | G38: DHL
A39: 9904225553 | B39: 980102704 | C39: Delivered | D39: 991033157 | E39: 1012 | F39: Canada | G39: DHL
A40: 4258892330 | B40: 980102700 | C40: Delivered | D40: 991033154 | E40: 1012 | F40: Ghana | G40: AED 200 EXTRA CHARGE
...

Sheet test
A1: To Country | B1: Reference Number | C1: Booking Number | D1: Tracking Number | E1: Delivery Agent | F1: Sl No | G1: Company Code
A2: Korea, Republic of | B2: 980102804 | C2: 991033703 | D2: 8443665226 | E2: DHL | F2: 17
A3: Germany | B3: 980102803 | C3: 991033702 | D3: 771594734213 | E3: FEDEX | F3: 18
A4: United Arab Emirates | B4: 980102799 | C4: 991033704 | D4: APSITEX | E4: APSITEX | F4: 4
A6: Reference Number | B6: Booking Date | C6: Company Code | D6: Sl No | E6: Tracking Number | F6: Booking Number | G6: To Country | H6: Delivery Agent
A7: 980102809 | B7: 45680.167 | C7: 1012 | D7: 32 | E7: 771650617510 | F7: 991033744 | G7: Germany | H7: FEDEX
A8: 980102807 | B8: 45680.167 | C8: 1012 | D8: 33 | E8: 771650616925 | F8: 991033743 | G8: Spain | H8: FEDEX
A9: 980102806 | B9: 45680.167 | C9: 1012 | D9: 34 | E9: 1000031783003 | F9: 991033742 | G9: Canada | H9: EMX
A10: 980102805 | B10: 45680.167 | C10: 1012 | D10: 35 | E10: 771650615594 | F10: 991033741 | G10: Austria | H10: FEDEX
A16: Booking Number | B16: To Country | C16: Tracking Number | D16: Company Code | E16: Sl No | F16: Reference Number | G16: Delivery Agent
A17: 991033792 | B17: United Arab Emirates | C17: 991033792 | D17: 1012 | E17: 11 | F17: 980102818 | G17: APSITEX
A18: 991033791 | B18: United Kingdom | C18: HOLD | D18: 1012 | E18: 12 | F18: 980102819 | G18: MIX COMMODITY
A19: 991033793 | B19: United Arab Emirates | C19: 50362971842 | D19: 1012 | E19: 37 | F19: 980102821 | G19: ARAMEX
A20: 991033790 | B20: Indonesia | C20: 3801753034 | D20: 1012 | E20: 40 | F20: 980102816 | G20: DHL
A21: 991033789 | B21: Canada | C21: 1000031871274 | D21: 1012 | E21: 41 | F21: 980102815 | G21: EMX
A22: 991033788 | B22: Belgium | C22: 771741902443 | D22: 1012 | E22: 42 | F22: 980102810 | G22: FEDEX
A24: Company Code | B24: Tracking Number | C24: Sl No | D24: To Country | E24: Reference Number | F24: Booking Number | G24: Delivery Agent
A25: 1012 | B25: 991033877 | C25: 14 | D25: United Arab Emirates | E25: 980102829 | F25: 991033877 | G25: APSITEX
A26: 1012 | B26: MSDS/NON DG | C26: 15 | D26: Pakistan | E26: 980102831 | F26: 991033874 | G26: HOLD
A27: 1012 | B27: UNDER VALUE/HOLD | C27: 16 | D27: India | E27: 980102822 | F27: 991033868 | G27: HOLD
A28: 1012 | B28: 35655525124 | C28: 40 | D28: Kenya | E28: 980102833 | F28: 991033876 | G28: ARAMEX
A29: 1012 | B29: 1000031984289 | C29: 41 | D29: United States | E29: 980102832 | F29: 991033875 | G29: EMX
A30: 1012 | B30: 1000031985487 | C30: 43 | D30: Malaysia | E30: 980102830 | F30: 991033873 | G30: EMX
A31: 1012 | B31: 1000031984115 | C31: 44 | D31: United States | E31: 980102828 | F31: 991033872 | G31: EMX
A32: 1012 | B32: 771856500560 | C32: 45 | D32: France | E32: 980102825 | F32: 991033871 | G32: FEDEX
A33: 1012 | B33: 1000031984077 | C33: 46 | D33: United States | E33: 980102824 | F33: 991033870 | G33: EMX
A34: 1012 | B34: 771856561193 | C34: 47 | D34: Turkey | E34: 980102823 | F34: 991033869 | G34: FEDEX
A36: Company Code | B36: Tracking Number | C36: Sl No | D36: To Country | E36: Reference Number | F36: Booking Number | G36: Delivery Agent
A37: 1012 | B37: 991034127 | C37: 5 | D37: United Arab Emirates | E37: 980102869 | F37: 991034127 | G37: APSITEX
A38: 1012 | B38: 991034126 | C38: 6 | D38: United Arab Emirates | E38: 980102868 | F38: 991034126 | G38: APSITEX
A39: 1012 | B39: 35656453722 | C39: 23 | D39: Qatar | E39: 980102866 | F39: 991034125 | G39: ARAMEX
A40: 1012 | B40: 1028907795 | C40: 24 | D40: United States | E40: 980102870 | F40: 991034124 | G40: DHL
A41: 1012 | B41: 3649707073 | C41: 25 | D41: Italy | E41: 980102867 | F41: 991034123 | G41: DHL
A43: 1012 | B43: 772222894611 | C43: 27 | D43: Serbia | E43: 980102872 | F43: 991034176 | G43: FEDEX
A44: 1012 | B44: EE508363185AE | C44: 28 | D44: Russian Federation | E44: 980102874 | F44: 991034177 | G44: EMX
A45: 1012 | B45: 772222884779 | C45: 29 | D45: Czech Republic | E45: 980102875 | F45: 991034178 | G45: FEDEX
A46: 1012 | B46: 1000032314300 | C46: 30 | D46: United States | E46: 980102876 | F46: 991034179 | G46: EMX
A47: 1012 | B47: 35656642954 | C47: 31 | D47: Saudi Arabia | E47: 980102878 | F47: 991034181 | G47: ARAMEX
A48: 1012 | B48: UNDER PROCESS | C48: 66 | D48: Thailand | E48: 980102877 | F48: 991034180 | G48: DHL
A49: 1012 | B49: 991034175 | C49: 67 | D49: United Arab Emirates | E49: 980102873 | F49: 991034175 | G49: APSITEX
...
